BEGIN:VCALENDAR
VERSION:2.0
PRODID:-//wp-events-plugin.com//7.2.3.1//EN
TZID:Europe/Berlin
X-WR-TIMEZONE:Europe/Berlin
BEGIN:VEVENT
UID:0-2477@sharepointsocial.de
DTSTART;TZID=Europe/Berlin:20250424T080000
DTEND;TZID=Europe/Berlin:20250425T200000
DTSTAMP:20250419T143430Z
URL:https://sharepointsocial.de/events/colorcloud-hamburg/
SUMMARY:ColorCloud Hamburg
DESCRIPTION:Let's paint the cloud with Tech!\nThe most colorful Microsoft B
 usiness Applications conference is coming back to Hamburg in April 2025 fo
 r its second edition!\nLike artists working with broad color palettes\, Co
 lorCloud covers all Business Applications from Microsoft with German and E
 nglish content.\n\nJoin us on April 24 and 25 in Hamburg\, Germany\, wher
 e the varied shades of Microsoft Business Applications unite to spark crea
 tivity\, inspiration and knowledge. Immerse yourself in two days of conten
 t spanning across 6 diverse tracks\, one day of workshops and one day ful
 l of sessions. It is a canvas for all attendees\, from beginners to expert
 s\, to learn\, share\, and create amazing solutions\, combining diverse to
 ols to innovate and build a brighter\, more inclusive future.\n\nHere: Tic
 kets and Agenda\n&nbsp\;
CATEGORIES:Konferenz,Meetup
LOCATION:Radison Blue Hamburg\, Congressplatz 2\, Hamburg\, Deutschland
X-APPLE-STRUCTURED-LOCATION;VALUE=URI;X-ADDRESS=Congressplatz 2\, Hamburg\,
  Deutschland;X-APPLE-RADIUS=100;X-TITLE=Radison Blue Hamburg:geo:0,0
END:VEVENT
BEGIN:VTIMEZONE
TZID:Europe/Berlin
X-LIC-LOCATION:Europe/Berlin
BEGIN:DAYLIGHT
DTSTART:20250330T030000
TZOFFSETFROM:+0100
TZOFFSETTO:+0200
TZNAME:CEST
END:DAYLIGHT
END:VTIMEZONE
END:VCALENDAR