BEGIN:VCALENDAR
VERSION:2.0
PRODID:-//wp-events-plugin.com//7.2.3.1//EN
TZID:Europe/Berlin
X-WR-TIMEZONE:Europe/Berlin
BEGIN:VEVENT
UID:6-96@sharepointsocial.de
DTSTART;TZID=Europe/Berlin:20160317T140000
DTEND;TZID=Europe/Berlin:20160317T150000
DTSTAMP:20160212T152406Z
URL:https://sharepointsocial.de/events/collabtalk-dach-6-live-von-der-cebi
 t-und-mit-planner-und-office365-video/
SUMMARY:CollabTalk DACH 6 live von der Cebit und mit Planner und Office365 
 Video
DESCRIPTION:Alles rund um den neuen Office 365 Planer und das Videoportal i
 n Office 365 sind die Themen der 6. Ausgabe des CollabTalkDACH mit Martina
  Grom\, Michael Greth\, NIcki Borell und Samuel Zürcher am 17.03.2016.\n\
 n\n\nMichael Greth wird live von der Cebit direkt von der http://www.cebit
 enterprisedigital.de/ dabei sein.\nDie Themen:\n\n\n	Office 365 Planer\n	D
 as Videoportal in Office 365\n	Michael Greth live von der CeBIT\n\n\nWir f
 reuen uns über viele Fragen im Live Chat!\n\n\nAnmeldung\nAnmeldung über
  die Eventwebsite
CATEGORIES:Webcast
END:VEVENT
BEGIN:VTIMEZONE
TZID:Europe/Berlin
X-LIC-LOCATION:Europe/Berlin
BEGIN:STANDARD
DTSTART:20151025T020000
TZOFFSETFROM:+0200
TZOFFSETTO:+0100
TZNAME:CET
END:STANDARD
END:VTIMEZONE
END:VCALENDAR