BEGIN:VCALENDAR
VERSION:2.0
PRODID:-//wp-events-plugin.com//7.2.3.1//EN
TZID:Europe/Berlin
X-WR-TIMEZONE:Europe/Berlin
BEGIN:VEVENT
UID:0-2380@sharepointsocial.de
DTSTART;TZID=Europe/Berlin:20240919T090000
DTEND;TZID=Europe/Berlin:20240920T180000
DTSTAMP:20240603T184438Z
URL:https://sharepointsocial.de/events/cim-lingen-2024/
SUMMARY:cim lingen 2024
DESCRIPTION:Nach längerer Pause meldet sich die cim lingen wieder zurück!
 \n\nAuf diesem IT-Community Event erwartet dich ein hochgradig interessier
 tes Publikum aus IT- und Business-Experten\, ein Programm von 20 exzellent
 en Vorträgen auf drei parallelen Bühnen\, eine legendäre after cim part
 y und viel Platz für Kontakte und persönlichen Austausch.\n\nUnter dem L
 eitthema der cim lingen 2024 „KI im Geschäftsumfeld – Möglichkeiten\
 , Einsatz\, Nutzen“ wollen wir diskutieren\, welche Auswirkung Künstli
 cher Intelligenz auf Unternehmen hat bzw. haben wird\, welche (neuen) Anf
 orderungen entstehen und über den Tellerrand schauen.\n\nCall for Speaker
 :  https://sessionize.com/cimlingen2024/\n\nEventwebsite: https://cim-lin
 gen.de/
CATEGORIES:Konferenz,Meetup
LOCATION:IT-Zentrum\, Kaiserstr. 10 b\, Lingen\, Deutschland
GEO:52.51939789999999;7.322472000000062
X-APPLE-STRUCTURED-LOCATION;VALUE=URI;X-ADDRESS=Kaiserstr. 10 b\, Lingen\, 
 Deutschland;X-APPLE-RADIUS=100;X-TITLE=IT-Zentrum:geo:52.51939789999999,7.
 322472000000062
END:VEVENT
BEGIN:VTIMEZONE
TZID:Europe/Berlin
X-LIC-LOCATION:Europe/Berlin
BEGIN:DAYLIGHT
DTSTART:20240331T030000
TZOFFSETFROM:+0100
TZOFFSETTO:+0200
TZNAME:CEST
END:DAYLIGHT
END:VTIMEZONE
END:VCALENDAR