BEGIN:VCALENDAR
VERSION:2.0
PRODID:-//wp-events-plugin.com//7.2.3.1//EN
TZID:Europe/Berlin
X-WR-TIMEZONE:Europe/Berlin
BEGIN:VEVENT
UID:0-2367@sharepointsocial.de
DTSTART;TZID=Europe/Berlin:20240507T180000
DTEND;TZID=Europe/Berlin:20240507T200000
DTSTAMP:20240502T092658Z
URL:https://sharepointsocial.de/events/chatbots-mit-copilot-studio/
SUMMARY:Chatbots mit Copilot Studio
DESCRIPTION:\n\n\nIch möchte euch herzlich zum langerwarteten nächsten Me
 etup einladen. Nachdem Auftakt im Januar gab es leider sehr schwere Organi
 sationsprobleme\, die ich erst ab Mai lösen konnte.\nAnmeldung über Meet
 up https://www.meetup.com/berlin-microsoft-azure-meetup/events/300448870/\
 n\n&nbsp\;\nAlso\, nach dem Auftakt mit Container Apps und der passenden I
 nfrastruktur möchte ich euch zu einem neuen Thema\, das derzeit in aller 
 Munde ist\, einladen.\nFabian Moritz von Aithoria\, der noch unser Januar 
 Meetup gehostet hat\, möchte nun gerne in der Funktion als Unternehmer\, 
 Gründer und vor allem Auskenner in Sachen KI einen Vortrag halten\, zum T
 hema:\nChatbots mit Copilot Studio\nEr schreibt dazu:\n"Copilot Studio ist
  das Schweizer Taschenmesser für KI Chatbots. Sprachmodelle verwenden\, D
 aten verknüpfen\, Plugins bereitstellen\, Flows ausführen und vieles meh
 r. In dieser Session zeige ich euch\, wie man leistungsfähige KI-Chatbots
  baut. Freut euch auf eine volle Ladung Demos!"\nEinlass ist ab 18:00 Uhr\
 nVortrag ab 18:30 Uhr\nFeedback/Q&amp\;A ca. ab 19:30 Uhr\nAusklang mit es
 sen und trinken und anschließendem Besuch ein einer Bar um die Ecke auf S
 elbstzahler. 😁\nDiesmal treffen wir uns bei der Achtzig20 GmbH\, unsere
 n zukünftigen Host für die Meetups. Die Räume sind grandios\, das Team 
 ebenso und wenn mich nicht alles täuscht\, können wir mit einer kulinari
 schen Überraschung rechnen.\n\n\n\n\n\n\n\n\n
CATEGORIES:Meetup
LOCATION:Achtzig20\, Boxhagener Str. 78\, Berlin\, Deutschland
X-APPLE-STRUCTURED-LOCATION;VALUE=URI;X-ADDRESS=Boxhagener Str. 78\, Berlin
 \, Deutschland;X-APPLE-RADIUS=100;X-TITLE=Achtzig20:geo:0,0
END:VEVENT
BEGIN:VTIMEZONE
TZID:Europe/Berlin
X-LIC-LOCATION:Europe/Berlin
BEGIN:DAYLIGHT
DTSTART:20240331T030000
TZOFFSETFROM:+0100
TZOFFSETTO:+0200
TZNAME:CEST
END:DAYLIGHT
END:VTIMEZONE
END:VCALENDAR