BEGIN:VCALENDAR
VERSION:2.0
PRODID:-//wp-events-plugin.com//7.2.3.1//EN
TZID:Europe/Berlin
X-WR-TIMEZONE:Europe/Berlin
BEGIN:VEVENT
UID:6-36@sharepointsocial.de
DTSTART;TZID=Europe/Berlin:20150316T090000
DTEND;TZID=Europe/Berlin:20150318T180000
DTSTAMP:20150218T133632Z
URL:https://sharepointsocial.de/events/cebit2015-social-business-arena/
SUMMARY:CeBIT2015 Social Business Arena
DESCRIPTION:\n\nDie Social Business Arena @ CeBIT ist eine hochwertige Drei
 -Tages-Konferenz auf der CeBIT 2015. Ausgewählte Experten und Praktiker d
 iskutieren über die aktuellen Trends und Entwicklungen zu technologischen
  und organisatorischen Veränderungsprozessen rund um den Einsatz von sozi
 alen Technologien im Unternehmen.\n\nDie digitale Transformation ist bei v
 ielen Unternehmen das Top-Thema in 2015. Im Mittelpunkt steht dabei die st
 rategische Neuausrichtung des Unternehmens auf neue digitale Wertschöpfun
 g. Dafür bedarf es in der Regel mehr als nur der Einführung neuer Techno
 logien oder digitaler Marktkanäle\, vielmehr brauchen die Unternehmen ein
 e digitale "DNA"\, was einen immensen Veränderungsprozess und ein Überde
 nken bestehender Organisationsstrukturen erfordert.\n\nDie "Social Busines
 s Arena @ CeBIT 2015" diskutiert in diesen Zusammenhang die Fragestellung\
 , wie die Ansätze zur "Social Collaboration" und zum "Social Business" di
 e bestehenden Strukturen optimieren und die digitale Transformation unters
 tützen können. Da "soziale Technologien" gleichsam als "Enabler" wie auc
 h als Unterstützer dieser Veränderungsprozesse wirken\, gelten sie als w
 ichtiger Wegbereiter für die digitale Transformation.\n\nDie Fachkonferen
 z diskutiert in den zahlreichen Keynotes und Expertenrunden\, welche Herau
 sforderungen und Erfolgsfaktoren zu berücksichtigen sind\, um mit erfolgr
 eichen "Social Collaboration"-Initiativen den Informationsaustausch und di
 e Zusammenarbeit in bestehenden Strukturen zu verbessern und gleichzeitig 
 zu revolutionieren.\n\nDie Social Business Arena @ CeBIT  ist in diesem 
 Jahr in Halle 4 Stand A72 zu finden.\n\n[su_note note_color="#ebfa87"]Agen
 da\, Anmeldung für VIP Tickets und alle weiteren Infos auf der Website[/s
 u_note]
CATEGORIES:Konferenz
LOCATION:Cebit Hannover Messegelände\, Messe\, Hannover\, Deutschland
GEO:52.327635;9.804147999999941
X-APPLE-STRUCTURED-LOCATION;VALUE=URI;X-ADDRESS=Messe\, Hannover\, Deutschl
 and;X-APPLE-RADIUS=100;X-TITLE=Cebit Hannover Messegelände:geo:52.327635,
 9.804147999999941
END:VEVENT
BEGIN:VTIMEZONE
TZID:Europe/Berlin
X-LIC-LOCATION:Europe/Berlin
BEGIN:STANDARD
DTSTART:20141026T020000
TZOFFSETFROM:+0200
TZOFFSETTO:+0100
TZNAME:CET
END:STANDARD
END:VTIMEZONE
END:VCALENDAR