BEGIN:VCALENDAR
VERSION:2.0
PRODID:-//wp-events-plugin.com//7.2.3.1//EN
TZID:Europe/Berlin
X-WR-TIMEZONE:Europe/Berlin
BEGIN:VEVENT
UID:6-76@sharepointsocial.de
DTSTART;TZID=Europe/Berlin:20160314T090000
DTEND;TZID=Europe/Berlin:20160318T180000
DTSTAMP:20160126T153925Z
URL:https://sharepointsocial.de/events/cebit-2016/
SUMMARY:CeBiT 2016
DESCRIPTION:Alle Jahre wieder --- wir kümmern uns um Freikarten\n\nUnd wir
  werden wieder mit dem SharePointPodcast vor Ort sein.\n\nInfos folgen\n\n
 &nbsp\;
LOCATION:Cebit Hannover Messegelände\, Messe\, Hannover\, Deutschland
GEO:52.327635;9.804147999999941
X-APPLE-STRUCTURED-LOCATION;VALUE=URI;X-ADDRESS=Messe\, Hannover\, Deutschl
 and;X-APPLE-RADIUS=100;X-TITLE=Cebit Hannover Messegelände:geo:52.327635,
 9.804147999999941
END:VEVENT
BEGIN:VTIMEZONE
TZID:Europe/Berlin
X-LIC-LOCATION:Europe/Berlin
BEGIN:STANDARD
DTSTART:20151025T020000
TZOFFSETFROM:+0200
TZOFFSETTO:+0100
TZNAME:CET
END:STANDARD
END:VTIMEZONE
END:VCALENDAR