BEGIN:VCALENDAR
VERSION:2.0
PRODID:-//wp-events-plugin.com//7.2.3.1//EN
TZID:Europe/Berlin
X-WR-TIMEZONE:Europe/Berlin
BEGIN:VEVENT
UID:6-547@sharepointsocial.de
DTSTART;TZID=Europe/Berlin:20171010T083000
DTEND;TZID=Europe/Berlin:20171010T130000
DTSTAMP:20170902T154937Z
URL:https://sharepointsocial.de/events/business-revolution/
SUMMARY:Business Revolution
DESCRIPTION:Ein Event der WALTER FRIES Corporate Finance GmbH\n\nDigitalisi
 erung – die große Veränderung unserer Zeit. Sie verändert die Art und
  Weise\, wie Menschen kommunizieren\, sich informieren\, arbeiten oder ihr
 e Freizeit gestalten. Darüber hinaus lässt die Digitalisierung kaum ein 
 Geschäftsmodell unberührt. Geschäftsmodelle\, Produkte und Prozesse mü
 ssen absolut neuartigen Anforderungen standhalten. In wenigen Jahren wird 
 sich der Mittelstand komplett transformiert haben. Die Veränderungsgeschw
 indigkeit ist so enorm\, dass sich schon viele im Mittelstand „abgehäng
 t“ fühlen.\nBUSINESS REVOLUTION gibt Antworten für den Mittelstand\nWi
 e sieht der Prozess zur Digitalisierung im Unternehmen aus? Welche Anforde
 rungen stellt die Digitalisierung an mittelständische Unternehmen\, deren
  Produkte\, Arbeitsweisen und Strategien? Wie können die Mitarbeiter moti
 viert werden und gleichzeitig die Bedenken des Arbeitsplatzverlustes genom
 men werden? Diese Fragen werden unter anderem auf der BUSINESS REVOLUTION 
 am 10. Oktober 2017 beantwortet. Die WALTER FRIES Firmengruppe hat hierzu 
 Menschen mit spannenden Vorträgen zusammengebracht\, deren Puls bereits d
 igital schlägt.\n\nEs zu ignorieren wäre fatal. Es hinauszuschieben auf 
 irgendwann auch.\n\nNein -  jetzt ist die Zeit\, die Dinge anzupacken und
  digitale Strategien für die Zukunft zu entwickeln.\n\n++++++++++++++++++
 ++++++++++++++++++++++++++++++++++++\n\n*KEYNOTE | Christoph Burkhardt*\n\
 n“Deutschlands bester Innovationspsychologe” schreibt der Focus über 
 Christoph Burkhardt. “Wahrscheinlich auch der Einzige” sagt der Innova
 tionsexperte selbst.\n\nDer Senkrechtstarter in Sachen Fortschritt lebt un
 d arbeitet im Silicon Valley\, in seiner Wahlheimat San Francisco und ist 
 tagtäglich hautnah dabei\, wenn Durchbruchsideen entstehen und die Welt e
 robern. Als Innovation Lead und Partner des Beratungsunternehmens Plot Inc
 . mit Sitz in Palo Alto bringt Christoph Burkhardt Innovationsstrategien z
 u Unternehmen weltweit\, die verstanden haben\, dass Innovation im 21. Jah
 rhundert zum Tagesgeschäft gehört.\n\nChristoph Burkhardt gibt Impulse P
 robleme anders anzugehen\, Ideen effektiver zu managen\, bessere Entscheid
 ungen zu treffen und Andere zu überzeugen. Zu seinen Klienten zählen neb
 en internationalen Organisationen und Unternehmen auch zahlreiche Spitzenu
 niversitäten.\n\nErfahren Sie mehr auf www.christoph-burkhardt.com.\n\n+
 +++++++++++++++++++++++++++++++++++++++++++++++++++++\n\nDaniel Putsche | 
 candylabs GmbH \n\n"Gebannt folgen Sie seiner Analyse und Einschätzung m
 it der Hoffnung\, seinen Wissensschatz auch in Ihr eigenes Unternehmen tra
 nsferieren zu können” fasst Mike Baier\, Senior Director Michael Page
 \, die erlebten dreißig Minuten zusammen. Daniel Putsche hat mit mehr als
  sechs Jahren Konzernerfahrung mit Stationen in Barcelona und San Francisc
 o und zwei nachfolgenden Unternehmensgründungen eine seltene aber heutzut
 age sehr wertvolle Kombination geschaffen: Ein Digital-Native mit intensiv
 er Erfahrung in etablierten Strukturen\, gepaart mit Gründer-DNA und ausp
 rägtem Wissen in der Anwendung von Startup-Methoden. Dieses Wissen verpac
 kt er in seinen Vorträgen in eingängigen Stories\, die nicht nur Inspira
 tion\, sondern wertvolle Denkanstöße für Unternehmer\, Mitarbeiter und 
 Gründer auf Basis von Best-Practices in den Bereichen Digitale Transforma
 tion\, Innovation\, Startup-Methoden und Scheitern sind. www.candylabs.de
 \n\n++++++++++++++++++++++++++++++++++++++++++++++++++++++\n\nMario Rüdel
  | WALTER FRIES Firmengruppe\n\nMario Rüdel ist IT-Pioneer der ersten Stu
 nde und Betriebswirt mit über 20 Jahren Beratungserfahrung hat er alle we
 sentlichen Meilensteine in der IT-Welt aus seinem Consulting-Ansatz heraus
  beobachtet. Aus seiner Sicht ist eine vernünftige ganzheitliche Unterneh
 menssteuerungslösung nur dann umsetzbar\, wenn Mensch wie Maschine voll i
 ntegriert sind. Die WALTER FRIES Unternehmensberatung weist eine langjäh
 rige Erfahrung in der Finanzplanung auf und hat alle Wellen und technologi
 schen Veränderungen durchlaufen. Zahlreiche Best-Practice-Beispiele im B
 ereich der Unternehmens- und Finanzplanung in unterschiedlichen Branchen w
 urden erfolgreich implementiert. www.walterfries.de\n\n++++++++++++++++++
 ++++++++++++++++++++++++++++++++++++\n\nAndreas Kraus | Sunlab GmbH\n\nAnd
 reas Kraus ist als Informatiker bereits 1998 in die Welt des Online Market
 ing eingestiegen und hat heute fast 20 Jahre Erfahrung mit Suchmaschinen u
 nd sozialen Netzwerken. 2011 gründete er die Performance Agentur Sunlab d
 ie heute 36 Mitarbeiter beschäftigt.\nDie Sunlab GmbH ist eine inhabergef
 ührte Performance Marketing Agentur mit den Schwerpunkten SEA\, SEO\, Soc
 ial Media\, Analytics und Web-Technologien. Sie agiert stets am Puls der 
 Zeit und betreut u.a. zwei Unternehmen aus den deutschen E-Commerce Top10
 . www.sunlab.de\n\nAnmeldung\n\nAnmeldung über die XING Eventwebsite
CATEGORIES:Partnerevent
LOCATION:Stadthalle Aschaffenburg\, Schloßplatz 1\, Aschaffenburg\, 63739\
 , Deutschland
GEO:49.97673;9.144149999999967
X-APPLE-STRUCTURED-LOCATION;VALUE=URI;X-ADDRESS=Schloßplatz 1\, Aschaffenb
 urg\, 63739\, Deutschland;X-APPLE-RADIUS=100;X-TITLE=Stadthalle Aschaffenb
 urg:geo:49.97673,9.144149999999967
END:VEVENT
BEGIN:VTIMEZONE
TZID:Europe/Berlin
X-LIC-LOCATION:Europe/Berlin
BEGIN:DAYLIGHT
DTSTART:20170326T030000
TZOFFSETFROM:+0100
TZOFFSETTO:+0200
TZNAME:CEST
END:DAYLIGHT
END:VTIMEZONE
END:VCALENDAR