BEGIN:VCALENDAR
VERSION:2.0
PRODID:-//wp-events-plugin.com//7.2.3.1//EN
TZID:Europe/Berlin
X-WR-TIMEZONE:Europe/Berlin
BEGIN:VEVENT
UID:0-1769@sharepointsocial.de
DTSTART;TZID=Europe/Berlin:20210518T190000
DTEND;TZID=Europe/Berlin:20210518T203000
DTSTAMP:20210331T154026Z
URL:https://sharepointsocial.de/events/berlin-aws-group-virtual-meetup-may
 -2021/
SUMMARY:Berlin AWS Group Virtual Meetup - May 2021
DESCRIPTION:18:45 - Warming up and networking chat\n\n19:00 - "How many Dev
 Ops engineers are required to run a web application on Amazon ECS? Zero!"\
 n\nInternational speaker: Ruslan Kosolapov (Plesk)\n\nSpeaker bio:\n"Progr
 am Manager with strong technical background in Web\, Software as a Service
  (SaaS)\, Hosting\, Web Applications\, Linux\, Clouds\, AWS."\n\nAbstract:
 \n"What to do if you want to run your web app on AWS\, but have no idea ho
 w? Get a SaaS Control Panel that takes care of DevOps! Let me show you the
  live demo of that.\n\nOnce upon a time\, I wanted to host a Rust game ser
 ver on AWS. I asked people\, ""how can I do that?"" and got a lot of comme
 nts about the complexity of AWS.\nI have the same opinion - AWS is complex
 . We faced with this complexity when we developed our services.\nWhat if t
 here is a simple SaaS control panel for AWS? So you can specify a git repo
  URL with a Dockerfile\, your AWS account\, and a couple of options (e.g.\
 , autoscaling options\, database options\, etc.) voila - the solution does
  all the job to configure and run your web app on AWS."\n\nLevel 200\n\n19
 :45 - "When event-driven systems meet CSV reports"\n\nSpeaker: Michael Wit
 tig (cloudonaut.io)\n\nSpeaker bio:\n"On a mission to explore AWS. Sharing
  my insights at cloudonaut.io. Follow me to deepen your AWS knowledge\, st
 ay up to date\, and be inspired."\n\nAbstract:\n"Event-driven architecture
 s come with many benefits. But in the end\, the customer asks for a CSV re
 port. An aggregated snapshot of all events. It turns out that AWS provides
  all the building blocks to turn any event stream into a CSV report. In th
 is talk\, you learn to combine SNS\, Kinesis Firehose\, S3\, Step Function
 s\, and Athena to generate CSV reports."\n\nLevel 200
CATEGORIES:Meetup
LOCATION:https://www.meetup.com/de-DE/berlinawsug/events/277262823/
END:VEVENT
BEGIN:VTIMEZONE
TZID:Europe/Berlin
X-LIC-LOCATION:Europe/Berlin
BEGIN:DAYLIGHT
DTSTART:20210328T030000
TZOFFSETFROM:+0100
TZOFFSETTO:+0200
TZNAME:CEST
END:DAYLIGHT
END:VTIMEZONE
END:VCALENDAR