BEGIN:VCALENDAR
VERSION:2.0
PRODID:-//wp-events-plugin.com//7.2.3.1//EN
TZID:Europe/Berlin
X-WR-TIMEZONE:Europe/Berlin
BEGIN:VEVENT
UID:0-2359@sharepointsocial.de
DTSTART;TZID=Europe/Berlin:20240502T183000
DTEND;TZID=Europe/Berlin:20240502T213000
DTSTAMP:20240502T090856Z
URL:https://sharepointsocial.de/events/bass-hb-ol-05-2024-tenant-security-
 man-muss-das-rad-nicht-selbst-erfinden/
SUMMARY:BASS HB/OL-05/2024: Tenant Security\, man muss das Rad nicht selbst
  erfinden
DESCRIPTION:Leicht erhöhte Schlagzahl\, aber irgendwie müssen wir ja wied
 er in unseren normalen Turnus kommen. :-)\nThema:\nWarum muss jeder seinen
  Tenant komplett selber absichern und die Settings erarbeiten oder kann ma
 n den Weg auch abkürzen? Ein Blick in die USA zeigt\, dass staatliche Ste
 llen gute Anleitungen liefern.\nSprecher: Jann Ruest
CATEGORIES:Meetup
LOCATION:Lilie\, Hemmstr. 159\, Bremen\, 28215\, Deutschland
GEO:53.093706;8.805696699999999
X-APPLE-STRUCTURED-LOCATION;VALUE=URI;X-ADDRESS=Hemmstr. 159\, Bremen\, 282
 15\, Deutschland;X-APPLE-RADIUS=100;X-TITLE=Lilie:geo:53.093706,8.80569669
 9999999
END:VEVENT
BEGIN:VTIMEZONE
TZID:Europe/Berlin
X-LIC-LOCATION:Europe/Berlin
BEGIN:DAYLIGHT
DTSTART:20240331T030000
TZOFFSETFROM:+0100
TZOFFSETTO:+0200
TZNAME:CEST
END:DAYLIGHT
END:VTIMEZONE
END:VCALENDAR