BEGIN:VCALENDAR
VERSION:2.0
PRODID:-//wp-events-plugin.com//7.2.3.1//EN
TZID:Europe/Berlin
X-WR-TIMEZONE:Europe/Berlin
BEGIN:VEVENT
UID:0-1772@sharepointsocial.de
DTSTART;TZID=Europe/Berlin:20210420T180000
DTEND;TZID=Europe/Berlin:20210420T210000
DTSTAMP:20210415T064045Z
URL:https://sharepointsocial.de/events/azure-meetup-hamburg-accelerate-net
 -to-azure-with-github-actions/
SUMMARY:Azure Meetup Hamburg Accelerate .NET to Azure with GitHub Actions
DESCRIPTION:? Accelerate .NET to Azure with GitHub Actions - and gain more 
 Insights\n\n▶️ 18:00 - 18:30 ? Begrüssung / Azure News / Termine\n▶
 ️ 18:30 - 19:30 ? PART 1 (engl.)\n▶️ 19:30 - 19:45 ? Networking / Pa
 use\n▶️ 19:45 - 20:30 ? PART 2 (engl.)\n▶️ 20:30 - 21:00 ?‍♂
 ️ FAQ / Abschluss / Networking\n\n? Moderatoren: Björn Peters und Wolfg
 ang Wündsch\n? Präsentatoren: Isaac Levin\n\n? Issac Levin - Senior Prod
 uct Marketing Manager - Microsoft\nIsaac Levin is a Product Marketing Mana
 ger in Azure at Microsoft. He has over 10 years of experience working as a
  developer for the web\, mostly in the Microsoft Ecosystem. When he isn't 
 helping customers get the most of Microsoft Products\, he contributes to M
 icrosoft Documentation in the .NET and ASP.NET space as well as other open
 -source projects\, and occasionally blogs about things that interest him. 
 He likes to wind down from work with his wife Ariana and his 2 sons Isaac 
 and Avery.\n\n? GitHub Actions makes it easy to automate all your software
  workflows\, now with world-class CI/CD. Build\, test\, and deploy your co
 de right from GitHub. Make code reviews\, branch management\, and issue tr
 iaging work the way you want. With .NET Core bringing a cross platform app
 roach\, getting your applications to the Cloud is easier than ever.\n\nIn 
 this session we will learn the different ways to deploy our .NET applicati
 ons to the cloud and how we can use GitHub Actions to make it faster!\n\n?
  Sessionize:\n? Wir suchen ?DICH als Speaker auf dem Azure Meetup Hamburg!
  Wer uns mit seinem Talk unterstützen möchte\, ist herzlich eingeladen s
 eine Vorschläge auf Sessionize einzutragen.
CATEGORIES:Meetup
LOCATION:https://www.meetup.com/de-DE/Azure-Meetup-Hamburg/events/mnhfdsycc
 gbbc/
END:VEVENT
BEGIN:VTIMEZONE
TZID:Europe/Berlin
X-LIC-LOCATION:Europe/Berlin
BEGIN:DAYLIGHT
DTSTART:20210328T030000
TZOFFSETFROM:+0100
TZOFFSETTO:+0200
TZNAME:CEST
END:DAYLIGHT
END:VTIMEZONE
END:VCALENDAR