BEGIN:VCALENDAR
VERSION:2.0
PRODID:-//wp-events-plugin.com//7.2.3.1//EN
TZID:Europe/Berlin
X-WR-TIMEZONE:Europe/Berlin
BEGIN:VEVENT
UID:0-1910@sharepointsocial.de
DTSTART;TZID=Europe/Berlin:20211118T090000
DTEND;TZID=Europe/Berlin:20211118T150000
DTSTAMP:20211027T090653Z
URL:https://sharepointsocial.de/events/azure-meetup-frankfurt-workshop-mod
 ernization-data-ai-ai-aware-cloud-solutions/
SUMMARY:Azure Meetup Frankfurt Workshop Modernization Data & AI - AI Aware 
 Cloud Solutions
DESCRIPTION:Register for this workshop: https://events.daenet.de/events/wo
 rkshop-modernisierung-data-ai-2021/\n\nDescription:\nThe workshop targets 
 professional enterprise developers\, data scientists\, architects and busi
 ness decision makers who target the modern data approach with AI. You will
  learn how to migrate your data to Microsoft Azure cloud and how to integr
 ate machine learning models into your modern solutions.\n\nSpeaker:\nBahru
 din Hrnjica\, Ph.D. in technical sciences\, Microsoft Most Valuable Profes
 sional(MVP)\, software developer and data scientist. He is in software ind
 ustry for more than 20 years\, working on development of different customi
 zed solutions. He is currently working in multidisciplinary teams with the
  mission of optimizing and selecting appropriate strategy for the ML based
  solutions.
CATEGORIES:Meetup,Seminar
LOCATION:https://www.meetup.com/de-DE/Azure-Meetup-Frankfurt/events/2816691
 43
END:VEVENT
BEGIN:VTIMEZONE
TZID:Europe/Berlin
X-LIC-LOCATION:Europe/Berlin
BEGIN:STANDARD
DTSTART:20211031T020000
TZOFFSETFROM:+0200
TZOFFSETTO:+0100
TZNAME:CET
END:STANDARD
END:VTIMEZONE
END:VCALENDAR