BEGIN:VCALENDAR
VERSION:2.0
PRODID:-//wp-events-plugin.com//7.2.3.1//EN
TZID:Europe/Berlin
X-WR-TIMEZONE:Europe/Berlin
BEGIN:VEVENT
UID:0-1898@sharepointsocial.de
DTSTART;TZID=Europe/Berlin:20211125T190000
DTEND;TZID=Europe/Berlin:20211125T210000
DTSTAMP:20211014T103959Z
URL:https://sharepointsocial.de/events/azure-meetup-cologne-sharing-is-gro
 wing-how-does-it-work-and-what-it-needs/
SUMMARY:Azure Meetup Cologne - Sharing is growing - How does it work\, and 
 what it needs
DESCRIPTION:Still\, after several years in the market\, it's not clear what
  it needs to collaborate by using the same dataset across different worksp
 aces\, or simply by sharing a report with your colleagues.\nThis session w
 ill explain how sharing works inside Power BI\, what licenses are required
 \, and what doesn't work or at least you should not use. I will cover simp
 le sharing of artifacts between consumers\, but also aspects on how to sha
 re a dataset between multiple teams of content developers.\nThe explanatio
 ns are based on real life question from clients\, and of course on questio
 ns taken from the amazing Power BI community forum.
CATEGORIES:Meetup
LOCATION:https://www.meetup.com/de-DE/Azure-Cologne-Meetup/events/281124002
END:VEVENT
BEGIN:VTIMEZONE
TZID:Europe/Berlin
X-LIC-LOCATION:Europe/Berlin
BEGIN:STANDARD
DTSTART:20211031T020000
TZOFFSETFROM:+0200
TZOFFSETTO:+0100
TZNAME:CET
END:STANDARD
END:VTIMEZONE
END:VCALENDAR