BEGIN:VCALENDAR
VERSION:2.0
PRODID:-//wp-events-plugin.com//7.2.3.1//EN
TZID:Europe/Berlin
X-WR-TIMEZONE:Europe/Berlin
BEGIN:VEVENT
UID:6-549@sharepointsocial.de
DTSTART;TZID=Europe/Berlin:20170919T183000
DTEND;TZID=Europe/Berlin:20170919T210000
DTSTAMP:20170908T074146Z
URL:https://sharepointsocial.de/events/azure-meetup-berlin-cqrs-in-the-sky
 -with-azure/
SUMMARY:Azure Meetup Berlin : CQRS in the Sky with Azure
DESCRIPTION:The next meetup will focus on dev topics again and we will meet
  again at the Microsoft Accelerator. The meetup will start at 18:30 with n
 etworking and snacks. Janeks talk will begin by 19:00.\n\nTalk: CQRS in th
 e Sky with Azure\n\nWe\, as developers\, live in a distributed world. Ever
 y software should be scalable\, simple maintainable and high performant. Y
 es it sounds like a challenge which is not really simple to solve. All the
  days we fight against the CAP theorem which means that it is not possible
  to have a balanced relation between Capability\, Availability and Partiti
 on Tolerance. So not in a CQRS environment. Here we have a lot of possibil
 ities to decide about well-balanced relations\, but here comes the next is
 sue. What should or can we do? What are the right components?\n\nIn my las
 t years of software development\, especially with CQRS driven architecture
 s\, I have found out that a loose coupled system should contain REST servi
 ces\, Messaging and structure free databases. All of them we have in the A
 zure Cloud. So\, why should we not use all this resources and combine it t
 o an well working CQRS system? Oh\, and instead of using the „heavyweigh
 t“ App Services\, let’s use the Azure Functions as glue between the re
 sources. It sounds like fun which I want to show you in this session.\n\nS
 peaker: Jan Fellien We are happy to have Janek back after he was speaking 
 at our Joint meetup with the .Net User Group in April. Janek is in develop
 ment for about 25 years and nowadays focuses mainly on building back end s
 olutions in the cloud. Here he uses CQRS in implementation and DDD in mode
 lling. When he is not building software or giving talks and being active i
 n the community he spends time with his family and enjoys a good read.\n\n
 Anmeldung über Meetup
CATEGORIES:Meetup
LOCATION:Microsoft Niederlassung Berlin\, Unter den Linden 17\, Berlin\, Be
 rlin\, 10117\, Deutschland
GEO:52.5167069;13.390403300000003
X-APPLE-STRUCTURED-LOCATION;VALUE=URI;X-ADDRESS=Unter den Linden 17\, Berli
 n\, Berlin\, 10117\, Deutschland;X-APPLE-RADIUS=100;X-TITLE=Microsoft Nied
 erlassung Berlin:geo:52.5167069,13.390403300000003
END:VEVENT
BEGIN:VTIMEZONE
TZID:Europe/Berlin
X-LIC-LOCATION:Europe/Berlin
BEGIN:DAYLIGHT
DTSTART:20170326T030000
TZOFFSETFROM:+0100
TZOFFSETTO:+0200
TZNAME:CEST
END:DAYLIGHT
END:VTIMEZONE
END:VCALENDAR