BEGIN:VCALENDAR
VERSION:2.0
PRODID:-//wp-events-plugin.com//7.2.3.1//EN
TZID:Europe/Berlin
X-WR-TIMEZONE:Europe/Berlin
BEGIN:VEVENT
UID:0-1903@sharepointsocial.de
DTSTART;TZID=Europe/Berlin:20211110T190000
DTEND;TZID=Europe/Berlin:20211110T210000
DTSTAMP:20211019T173304Z
URL:https://sharepointsocial.de/events/azure-cologne-meetup-ignite-recap/
SUMMARY:Azure Cologne Meetup Ignite Recap
DESCRIPTION:In diesem Meetup sprechen wir mit verschiedenen Speakern über 
 die Neuigkeiten der Ignite 2021. Es gibt uns Zeit über Neuerungen zu spre
 chen und zu diskutieren.\n\nLass uns die 2 Stunden gemeinsam nutzen\, um 
 über die Neuigkeiten zu sprechen.\n\nWer sich einem Thema widmen will\, k
 ann sich gerne bei mir melden: raphael.koellner@rakoellner.com
CATEGORIES:Meetup
LOCATION:https://www.meetup.com/de-DE/Azure-Cologne-Meetup/events/281072186
END:VEVENT
BEGIN:VTIMEZONE
TZID:Europe/Berlin
X-LIC-LOCATION:Europe/Berlin
BEGIN:STANDARD
DTSTART:20211031T020000
TZOFFSETFROM:+0200
TZOFFSETTO:+0100
TZNAME:CET
END:STANDARD
END:VTIMEZONE
END:VCALENDAR