BEGIN:VCALENDAR
VERSION:2.0
PRODID:-//wp-events-plugin.com//7.2.3.1//EN
TZID:Europe/Berlin
X-WR-TIMEZONE:Europe/Berlin
BEGIN:VEVENT
UID:6-79@sharepointsocial.de
DTSTART;TZID=Europe/Berlin:20160202T140000
DTEND;TZID=Europe/Berlin:20160202T150000
DTSTAMP:20160126T175636Z
URL:https://sharepointsocial.de/events/avepoint-sharepoint-migration-mit-e
 rfolg-so-stellen-sie-es-geschickt-an/
SUMMARY:AvePoint SharePoint Migration mit Erfolg: So stellen Sie es geschic
 kt an!
DESCRIPTION:Ein AvePoint Webinar\n\nSie planen von einem Fremdsystem oder e
 iner älteren Version auf SharePoint 2013 On‑Premise oder in die Cloud z
 u migrieren? Aus der Erfahrung von zahlreichen SharePoint Migrationsprojek
 ten zeichnen wir für Sie den Weg einer Migration nach:\n\n\n	Was kommt be
 i einer SharePoint Migration auf Sie zu?\n	Auf welche Schritte kommt es an
 ?\n	Wie können Sie Stolperfallen zuverlässig aus dem Weg gehen?\n	Wann s
 ollten Sie besser auf professionelle Unterstützung oder eine Migrations-S
 oftware zurückgreifen?\n\nUnd\, wir stellen Ihnen in einer kurzen Live-De
 mo dreier Szenarien den Königsweg der Migration vor – SharePoint Umzug 
 mit dem DocAve Migrator. So erreichen Sie eine möglichst ausfallsichere\,
  effektive und kostengünstige Migration Ihrer Dokumente.\n\n	Migration vo
 n Fremdsystemen wie SAP in SharePoint 2013\n	Migration von älteren Versio
 nen in SharePoint 2013\n	Migration von SharePoint On-Premise in SharePoint
  2013 Online\n\nNutzen Sie die Gelegenheit\, Ihre Fragen an unsere Experte
 n zu stellen. Melden Sie sich gleich an zum Webinar.\n\n\nInfo + Anmeldung
 \nAvePoint Webinar Website\n
CATEGORIES:Webcast
END:VEVENT
BEGIN:VTIMEZONE
TZID:Europe/Berlin
X-LIC-LOCATION:Europe/Berlin
BEGIN:STANDARD
DTSTART:20151025T020000
TZOFFSETFROM:+0200
TZOFFSETTO:+0100
TZNAME:CET
END:STANDARD
END:VTIMEZONE
END:VCALENDAR