BEGIN:VCALENDAR
VERSION:2.0
PRODID:-//wp-events-plugin.com//7.2.3.1//EN
TZID:Europe/Berlin
X-WR-TIMEZONE:Europe/Berlin
BEGIN:VEVENT
UID:6-58@sharepointsocial.de
DTSTART;TZID=Europe/Berlin:20151027T180000
DTEND;TZID=Europe/Berlin:20151027T220000
DTSTAMP:20151022T111651Z
URL:https://sharepointsocial.de/events/arbeitstag-4-0-im-mittelstand-wande
 l-der-arbeitswelt/
SUMMARY:Arbeitstag 4.0 im Mittelstand: "Wandel der Arbeitswelt"
DESCRIPTION:Arbeitstag 4.0 im Mittelstand: "Wandel der Arbeitswelt"\nDer Mi
 ttelstand steht vor großen Herausforderungen. Die Arbeitswelt verändert 
 sich durch die Digitalisierung. Auch Fachkräftemangel\, Globalisierung un
 d knapper werdende Ressourcen fordern Reaktionen eines jeden Unternehmens.
  Unter dem Schlagwort „Arbeiten 4.0“ wird das Thema derzeit durch die 
 Bundesregierung voran getrieben. Es geht dabei um weit mehr als nur die Di
 gitalisierung des Arbeitslebens.\n\nElmar Witte (Microsoft Deutschland Gmb
 H) und Anja C. Wagner (FlowCampus) zeigen auf\, wie kleine und mittelstän
 dische Unternehmen morgen produktiver arbeiten und vernetzt lernen werden.
 René Zimmer (info-e-motion GmbH) demonstriert am Praxisbeispiel des eigen
 en papierlosen Büros\, wie Unternehmen den Sprung in den Mittelstand 4.0 
 bereits heute erfolgreich bewältigen.\n\nDurch den Abend und die anschlie
 ßende Diskussion mit den Teilnehmern\, führt Ralf Hasford. Die Veranstal
 tung bildet den Auftakt für eine Reihe von Talks im Vorfeld des Arbeitsta
 g 4.0 im Mittelstand\, der im Frühjahr 2016 stattfindet.\nAnmeldung\n\n	I
 nfos auf der Website\n	Kostenfreie Anmeldung\n
CATEGORIES:Partnerevent
LOCATION:beredsam - Räume für bessere Kommunikation 10. Etage (Südturm/O
 stturm)\, Bessemerstraße 82\, Berlin\, Berlin\, 12103\, Deutschland
GEO:52.461122;13.364933000000065
X-APPLE-STRUCTURED-LOCATION;VALUE=URI;X-ADDRESS=Bessemerstraße 82\, Berlin
 \, Berlin\, 12103\, Deutschland;X-APPLE-RADIUS=100;X-TITLE=beredsam - Räu
 me für bessere Kommunikation 10. Etage (Südturm/Ostturm):geo:52.461122,1
 3.364933000000065
END:VEVENT
BEGIN:VTIMEZONE
TZID:Europe/Berlin
X-LIC-LOCATION:Europe/Berlin
BEGIN:STANDARD
DTSTART:20151025T020000
TZOFFSETFROM:+0200
TZOFFSETTO:+0100
TZNAME:CET
END:STANDARD
END:VTIMEZONE
END:VCALENDAR