BEGIN:VCALENDAR
VERSION:2.0
PRODID:-//wp-events-plugin.com//7.2.3.1//EN
TZID:Europe/Berlin
X-WR-TIMEZONE:Europe/Berlin
BEGIN:VEVENT
UID:6-54@sharepointsocial.de
DTSTART;TZID=Europe/Berlin;VALUE=DATE:20150930
DTEND;TZID=Europe/Berlin;VALUE=DATE:20151001
DTSTAMP:20150916T145802Z
URL:https://sharepointsocial.de/events/arbeitsplatz-der-zukunft-heute/
SUMMARY:Arbeitsplatz der Zukunft\, HEUTE
DESCRIPTION:Hansevision und harmon.ie veranstalten unter dem Motto „Erleb
 en Sie den Arbeitsplatz der Zukunft schon heute” einen Event über die
  aktuellen Trends in den Bereichen Zusammenarbeit 4.0\, BYOA und User Adop
 tion.. Freuen Sie sich auf spannende Vorträge und Diskussionen\, tauschen
  Sie sich mit Kollegen aus\, erweitern Sie Ihr Netzwerk und und lernen Sie
 \, wie Sie Ihre Mitarbeiter für innovative Konzepte und Lösungen im Zeit
 alter der digitalen Transformation begeistern.\n\nDie Teilnahme ist kosten
 los\, einfach unter www.hansevision.com/mannheim (Mannheim) anmelden.
CATEGORIES:Partnerevent
LOCATION:SeeHotel Ketsch & Restaurant „Die Ente“\, Kreuzwiesenweg 5\, K
 etsch\, 68775\, Deutschland
GEO:49.35881;8.520620000000008
X-APPLE-STRUCTURED-LOCATION;VALUE=URI;X-ADDRESS=Kreuzwiesenweg 5\, Ketsch\,
  68775\, Deutschland;X-APPLE-RADIUS=100;X-TITLE=SeeHotel Ketsch & Restaura
 nt „Die Ente“:geo:49.35881,8.520620000000008
END:VEVENT
BEGIN:VTIMEZONE
TZID:Europe/Berlin
X-LIC-LOCATION:Europe/Berlin
BEGIN:DAYLIGHT
DTSTART:20150329T030000
TZOFFSETFROM:+0100
TZOFFSETTO:+0200
TZNAME:CEST
END:DAYLIGHT
END:VTIMEZONE
END:VCALENDAR