BEGIN:VCALENDAR
VERSION:2.0
PRODID:-//wp-events-plugin.com//7.2.3.1//EN
TZID:Europe/Berlin
X-WR-TIMEZONE:Europe/Berlin
BEGIN:VEVENT
UID:6-51@sharepointsocial.de
DTSTART;TZID=Europe/Berlin:20150827T150000
DTEND;TZID=Europe/Berlin:20150827T153000
DTSTAMP:20150825T123051Z
URL:https://sharepointsocial.de/events/app-gehts-erste-hilfe-fuer-intranet
 s-ohne-reichweite/
SUMMARY:App gehts! Erste Hilfe für Intranets ohne Reichweite
DESCRIPTION:EYO Webinar\n\nIntranets können ihren Anspruch als digitales Z
 entrum der internen Kommunikation nur glaubhaft machen\, wenn sie wirklich
  fast alle Mitarbeiter zuverlässig und regelmäßig erreichen. Das klingt
  einfach\, ist aber in vielen Unternehmen weit von der Realität entfernt.
  Die Eyo Mitarbeiter App ist eine mobile Lösung mit der bestehende Intra
 nets einfach mobil verfügbar gemacht werden können\, die aber auch als a
 lleiniges Intranet für kleinere und mittlere Unternehmen funktioniert.\n\
 nIm ersten Teil des Webinars erklärt Eyo Mitgründer und Geschäftsführe
 r Frank Wolf die Herausforderung und Lösungsoptionen für die mobile Ver
 fügbarkeit von Intranets. Im zweiten Teil stellt Frank dann die Funktio
 nalitäten und Anwendungsszenarien der Eyo MitarbeiterApp genauer vor.\n\n
 Anmeldung
CATEGORIES:Webcast
END:VEVENT
BEGIN:VTIMEZONE
TZID:Europe/Berlin
X-LIC-LOCATION:Europe/Berlin
BEGIN:DAYLIGHT
DTSTART:20150329T030000
TZOFFSETFROM:+0100
TZOFFSETTO:+0200
TZNAME:CEST
END:DAYLIGHT
END:VTIMEZONE
END:VCALENDAR