BEGIN:VCALENDAR
VERSION:2.0
PRODID:-//wp-events-plugin.com//7.2.3.1//EN
TZID:Europe/Berlin
X-WR-TIMEZONE:Europe/Berlin
BEGIN:VEVENT
UID:6-91@sharepointsocial.de
DTSTART;TZID=Europe/Berlin:20160413T100000
DTEND;TZID=Europe/Berlin:20160413T163000
DTSTAMP:20160403T172113Z
URL:https://sharepointsocial.de/events/alzenauer-it-rezepttage/
SUMMARY:Alzenauer IT-Rezepttage
DESCRIPTION:Ein Event der KOM4TEC\n\nIT-Rezepte für ein neues IT-Zeitalter
 \n\n\n\nEin neues IT-Zeitalter benötigt modernisierte und neue IT-Rezepte
 .\n\n\n\nRund um die Themen Cloud\, SharePoint\, Business Intelligence und
  Office 365 genießen Sie auf den Alzenauer IT-Rezepttagen leicht verdauli
 che und genial gewürzte Rezepte aus unserem IT-Kochbuch.\n\nEine Kostprob
 e:\n\n	Genussvolles Arbeiten: Ein Arbeitstag mit Microsoft Office\, Office
  365 und Skype for Business\n	Pasta Mista Kommunikation: Erleben Sie Skype
  for Business in einer Hybrid ITK-Umgebung\n	Dampfende Töpfe statt rauche
 nde Köpfe: BI in der Cloud und SQL Server 2016\n	Informationen statt Buch
 stabensuppe: Prozessoptimierung mit ecspand von d.velop\n	Was kommt morgen
  auf den Tisch? Office 365 und IoT\n	Aus dem Kommunikationskochbuch: Von d
 er Mitarbeiterzeitung zum Infoscreen\n	Auf Japanisch genießen: Kanban-Pro
 jektmanagement mit dem Office 365 Planner\n\nDie Gänge werden von Gastkö
 chen wie Michael Greth (Teamx Technology Scouts)\, David Schonebeck (d.vel
 op AG)\, Daniel Schleusener (C+ITEC AG) und IT-Köchen aus ausgewählten U
 nternehmen zubereitet\, die uns ihre Rezepte verraten und einen Blick übe
 r ihre Schultern erlauben. Als Chefköche stehen Ihnen Helmut Reinke\, Mar
 co Breier\, Stephan Renninger\, Nadja Schäfer und andere Spezialisten aus
  dem KOM4TEC-Team zur Verfügung.\n\nWie können Sie anstehende Veränderu
 ngsprozesse Ihren Anwendern servieren? Freuen Sie sich auf Ideen\, Anregun
 gen und humorvolle Geschichten\, die zum Nachdenken anregen\, von Motivati
 onstrainer und Entertainer Alexander Munke.\n\nDoch was wären die IT-Reze
 pttage ohne angemessene Gaumengenüsse? Für Ihr leibliches Wohl haben wir
  uns etwas Besonderes ausgedacht…\nAgenda\n\nAnmeldung und weitere Infos
 \nIT-Rezepttage Website\n\nXING https://www.xing.com/events/alzenauer-it-r
 ezepttage-1654817?sc_o=EV6282_sp_reco_2\n\nFacebook https://www.facebook.c
 om/events/582035435288823/\n\n\n
CATEGORIES:Partnerevent
LOCATION:Michelbacher Schösschen\, Schlossstrasse 11\, Alzenau\, 63755\, D
 eutschland
GEO:50.10218;9.104170000000067
X-APPLE-STRUCTURED-LOCATION;VALUE=URI;X-ADDRESS=Schlossstrasse 11\, Alzenau
 \, 63755\, Deutschland;X-APPLE-RADIUS=100;X-TITLE=Michelbacher Schösschen
 :geo:50.10218,9.104170000000067
END:VEVENT
BEGIN:VTIMEZONE
TZID:Europe/Berlin
X-LIC-LOCATION:Europe/Berlin
BEGIN:DAYLIGHT
DTSTART:20160327T030000
TZOFFSETFROM:+0100
TZOFFSETTO:+0200
TZNAME:CEST
END:DAYLIGHT
END:VTIMEZONE
END:VCALENDAR