BEGIN:VCALENDAR
VERSION:2.0
PRODID:-//wp-events-plugin.com//7.2.3.1//EN
TZID:Europe/Berlin
X-WR-TIMEZONE:Europe/Berlin
BEGIN:VEVENT
UID:0-2389@sharepointsocial.de
DTSTART;TZID=Europe/Berlin:20240702T170000
DTEND;TZID=Europe/Berlin:20240702T190000
DTSTAMP:20240627T132818Z
URL:https://sharepointsocial.de/events/ai-techday-copilotpc-meets-recall-d
 eutsch/
SUMMARY:AI TechDay: Copilot+PC meets Recall (Deutsch)
DESCRIPTION:\n\n\nHallo und herzlich willkommen.\nAI TechDay: Copilot+PC me
 ets Recall (Deutsch)\nDienstag\, 02. Juli 2024\n17.00 bis 18.30 Uhr\nLocat
 ion: Online\nVortrag:\nCopilot+PC meets Recall\nDuring Build 2024 in Seatt
 le\, Microsoft presented the Copilot+ PC and the Recall program\, which wa
 s immediately rejected by many due to security concerns. However\, the pro
 gram was in preview at the time and Microsoft announced changes. I have pu
 t together a few videos and describe why I will buy this device as a consu
 ltant and why it will save me 1-2 hours a day.\nHans Brender\nIT-Influence
 r\, Mentor\, Cloud Productivity Evangelist @HBSoft\nAlexander Wachtel\nMic
 rosoft AI MVP &amp\; MCT\, CEO @ESC Deutschland GmbH\n\n\n\n\n\n\nNatural 
 Language ProcessingData Science\nArtificial IntelligenceMachine LearningBi
 g Data\n\n
CATEGORIES:Meetup
LOCATION:https://www.meetup.com/global-ai-karlsruhe/events/301713434/
END:VEVENT
BEGIN:VTIMEZONE
TZID:Europe/Berlin
X-LIC-LOCATION:Europe/Berlin
BEGIN:DAYLIGHT
DTSTART:20240331T030000
TZOFFSETFROM:+0100
TZOFFSETTO:+0200
TZNAME:CEST
END:DAYLIGHT
END:VTIMEZONE
END:VCALENDAR