BEGIN:VCALENDAR
VERSION:2.0
PRODID:-//wp-events-plugin.com//7.2.3.1//EN
TZID:Europe/Berlin
X-WR-TIMEZONE:Europe/Berlin
BEGIN:VEVENT
UID:0-2370@sharepointsocial.de
DTSTART;TZID=Europe/Berlin:20240611T083000
DTEND;TZID=Europe/Berlin:20240612T170000
DTSTAMP:20240502T093822Z
URL:https://sharepointsocial.de/events/ai-summit-juni-2024/
SUMMARY:AI Summit Juni 2024
DESCRIPTION:\n\nHole das Beste für dich und dein Unternehmen aus der AI Su
 mmit\n\n\n\n\n\n\n\n 	\nDu lernst\, wie Deutschlands größte und erfolgre
 ichste Unternehmen Microsoft 365 einsetzen.\n 	\nKein Hype\, kein Marketin
 g Bullshit - Es geht um Umsetzung! Hier lernst du von unabhängigen Expert
 en\, was wirklich aktuell in Microsoft 365 möglich ist und welche Grenzen
  es gibt!\n 	\nProfitiere von Deep Dive Wissen aus neuen Bereichen\, die d
 u noch nicht erschlossen hast.\n 	\nVoller Fokus auf Umsetzung und praktis
 che Anwendung - Die Speaker sorgen dafür\, dass ihre Vorträge durch Prax
 isbezug und Machbarkeit überzeugen.\n 	\nStelle jede Menge Kontakte her\,
  die du bei der Umsetzung anrufen kannst.\n 	\nFinde Wege um Microsoft 365
  besser in deinem Unternehmen zu nutzen.\n\n\n\n\n
CATEGORIES:Konferenz,Meetup
LOCATION:https://events.m365-summits.de/AISummit-11-12-06-2024
END:VEVENT
BEGIN:VTIMEZONE
TZID:Europe/Berlin
X-LIC-LOCATION:Europe/Berlin
BEGIN:DAYLIGHT
DTSTART:20240331T030000
TZOFFSETFROM:+0100
TZOFFSETTO:+0200
TZNAME:CEST
END:DAYLIGHT
END:VTIMEZONE
END:VCALENDAR