BEGIN:VCALENDAR
VERSION:2.0
PRODID:-//wp-events-plugin.com//7.2.3.1//EN
TZID:Europe/Berlin
X-WR-TIMEZONE:Europe/Berlin
BEGIN:VEVENT
UID:0-2406@sharepointsocial.de
DTSTART;TZID=Europe/Berlin:20241011T110000
DTEND;TZID=Europe/Berlin:20241011T120000
DTSTAMP:20240829T102757Z
URL:https://sharepointsocial.de/events/ai-show-folge-4-so-starten-sie-mit-
 ihren-daten-mit-azure-bereit-fuer-ki/
SUMMARY:AI Show Folge 4: So starten Sie mit Ihren Daten – Mit Azure berei
 t für KI
DESCRIPTION:Sie möchten mit Künstlicher Intelligenz (KI) in Ihrem Unterne
 hmen durchstarten? Nutzen Sie das Potenzial Ihrer Daten für fortschrittli
 che KI-Lösungen. Wir zeigen Ihnen\, wie Sie diese fit für den Einsatz vo
 n KI bekommen. In Folge 4 unserer AI Show!\n\nEinschalten und Wissen tanke
 n: Die AI Show – bis Juli 2025 jeden zweiten Freitag von 11 bis 12 Uhr
 . Mit spannenden Live-Demos\, App-Previews und Diskussionen zu wechselnden
  KI-Themen. Online und kostenlos! Wir machen KI erlebbar. \n\nIn Folge 4
  „So starten Sie mit Ihren Daten – Mit Azure bereit für KI“ am 11. 
 Oktober 2024 zeigen wir Ihnen das Zusammenspiel von Technologien wie Micro
 soft Fabric\, Azure Databricks und Azure AI in der Praxis – eine integri
 erte Plattform\, um Ihre Daten optimal vorzubereiten und Ihnen den Einstie
 g in die Welt der Künstlichen Intelligenz zu erleichtern.\n\nMelden Sie s
 ich jetzt kostenlos zur AI Show Folge 4 „So starten Sie mit Ihren Daten 
 – Mit Azure bereit für KI“ am 11. Oktober 2024 an! Lassen Sie sich di
 ese Stunde Kompaktwissen zu Künstlicher Intelligenz nicht entgehen und ho
 len Sie sich wertvolles Fachwissen\, um Ihre Daten fit für KI zu machen. 
 Machen Sie jeden zweiten Freitag von 11 bis 12 Uhr zu Ihrer persönlichen 
 #Smartinée!\n\nDiese Folge richtet sich an Datenexpert*innen\, IT-Verantw
 ortliche und Interessierte\, die den Einsatz von Künstlicher Intelligenz 
 in Ihrem Unternehmen unterstützen.\n\nWerden Sie zum Fan und verpassen Si
 e keine Folge unserer AI Show. Die Themen der nächsten Wochen finden Sie 
 immer aktuell unter AI Show: Wir machen KI erlebbar.\n\nAuch wenn Sie mit 
 Ihrem neuen KI-Wissen glänzen möchten\, geben Sie Ihren Kolleg*innen doc
 h auch eine Chance! Teilen Sie die Termine im Team. AI Show: Wir machen KI
  erlebbar.\n\nHinweis: Die AI Show ist eine rein digitale Veranstaltung\, 
 doch die Plätze sind begrenzt.
CATEGORIES:Meetup,Webcast
LOCATION:https://msevents.microsoft.com/event?id=4452140926
END:VEVENT
BEGIN:VTIMEZONE
TZID:Europe/Berlin
X-LIC-LOCATION:Europe/Berlin
BEGIN:DAYLIGHT
DTSTART:20240331T030000
TZOFFSETFROM:+0100
TZOFFSETTO:+0200
TZNAME:CEST
END:DAYLIGHT
END:VTIMEZONE
END:VCALENDAR