BEGIN:VCALENDAR
VERSION:2.0
PRODID:-//wp-events-plugin.com//7.2.3.1//EN
TZID:Europe/Berlin
X-WR-TIMEZONE:Europe/Berlin
BEGIN:VEVENT
UID:0-2405@sharepointsocial.de
DTSTART;TZID=Europe/Berlin:20240927T110000
DTEND;TZID=Europe/Berlin:20240927T120000
DTSTAMP:20240829T102658Z
URL:https://sharepointsocial.de/events/ai-show-folge-3-entwicklung-fuer-al
 le-mit-der-microsoft-power-platform-copilot-studio/
SUMMARY:AI Show Folge 3: Entwicklung für alle – mit der Microsoft Power 
 Platform & Copilot Studio
DESCRIPTION:Entwicklung und Künstliche Intelligenz für alle. Bessere Abl
 äufe und gesteigerte Produktivität im gesamten Unternehmen. Wie das geli
 ngt\, zeigen wir Ihnen in Folge 3 unserer AI Show. Erleben Sie\, wie Micro
 soft Power Platform im Zusammenspiel mit Copilot Studio für alle Mitarbei
 tenden und das ganze Unternehmen zum Innovationsmotor wird!\n\nEinschalten
  und Wissen tanken: Die AI Show – bis Juli 2025 jeden zweiten Freitag 
 von 11 bis 12 Uhr. Mit spannenden Live-Demos\, App-Previews und Diskussion
 en zu wechselnden KI-Themen. Online und kostenlos! Wir machen KI erlebbar
 .\n\nWir nehmen Sie in Folge 3 „Microsoft Power Platform &amp\; Copilot
  Studio – Entwicklung für alle“ am 27. September 2024 mit auf eine
 n Streifzug durch verschiedene Anwendungsszenarien: für bessere Abläufe\
 , mehr Produktivität und – ja\, auch mehr Spaß und Motivation!\nErfahr
 en Sie aus erster Hand\, wie Copilot Studio für eine maßgeschneiderte KI
 -Unterstützung Ihrer Geschäftsprozesse sorgt – ob bei der App-Entwickl
 ung\, der Workflow-Gestaltung oder der Erstellung von Websites und Chatbot
 s.\n\nMelden Sie sich jetzt kostenlos zur AI Show Folge 3 „Microsoft Po
 wer Platform &amp\; Copilot Studio – Entwicklung für alle“ am 27. Sep
 tember 2024 an! Lassen Sie sich diese Stunde Kompaktwissen zu Künstliche
 r Intelligenz nicht entgehen und machen Sie jeden zweiten Freitag von 11 b
 is 12 Uhr zu Ihrer persönlichen #Smartinée!\n\nWerden Sie zum Fan und ve
 rpassen Sie keine Folge unserer AI Show. Die Themen der nächsten Wochen
  finden Sie immer aktuell unter AI Show: Wir machen KI erlebbar.\n\nAuch 
 wenn Sie mit Ihrem neuen KI-Wissen glänzen möchten\, geben Sie Ihren Kol
 leg*innen doch auch eine Chance! Teilen Sie die Termine im Team. AI Show:
  Wir machen KI erlebbar.\nHinweis: Die AI Show ist eine rein digitale Vera
 nstaltung\, doch die Plätze sind begrenzt.
CATEGORIES:Meetup,Webcast
LOCATION:https://msevents.microsoft.com/event?id=279241074406101
END:VEVENT
BEGIN:VTIMEZONE
TZID:Europe/Berlin
X-LIC-LOCATION:Europe/Berlin
BEGIN:DAYLIGHT
DTSTART:20240331T030000
TZOFFSETFROM:+0100
TZOFFSETTO:+0200
TZNAME:CEST
END:DAYLIGHT
END:VTIMEZONE
END:VCALENDAR