BEGIN:VCALENDAR
VERSION:2.0
PRODID:-//wp-events-plugin.com//7.2.3.1//EN
TZID:Europe/Berlin
X-WR-TIMEZONE:Europe/Berlin
BEGIN:VEVENT
UID:0-2404@sharepointsocial.de
DTSTART;TZID=Europe/Berlin:20240920T110000
DTEND;TZID=Europe/Berlin:20240920T120000
DTSTAMP:20240829T102556Z
URL:https://sharepointsocial.de/events/ai-show-folge-2-modernisieren-sie-i
 hre-sicherheitsinfrastruktur-mit-ki-auf-dem-neuesten-stand/
SUMMARY:AI Show Folge 2: Modernisieren Sie Ihre Sicherheitsinfrastruktur 
 – Mit KI auf dem neuesten Stand
DESCRIPTION:Sie möchten Ihr Unternehmen vor wachsenden Cyberbedrohungen sc
 hützen und Ihre Produktivität sicherstellen? Bringen Sie Ihre Sicherheit
 sinfrastruktur mit Künstlicher Intelligenz (KI) und maschinellem Lernen a
 uf den neuesten Stand!\n\nWie? Das zeigen wir Ihnen in Folge 2 unserer AI 
 Show. Einschalten und Wissen tanken: Die AI Show – bis Juli 2025 jeden z
 weiten Freitag von 11 bis 12 Uhr. Mit spannenden Live-Demos\, App-Previews
  und Diskussionen zu wechselnden KI-Themen. Online und kostenlos! Wir mach
 en KI erlebbar.\n\nIn Folge 2 „Modernisieren Sie Ihre Sicherheitsinfrast
 ruktur – Mit KI auf dem neuesten Stand“ am 20. September 2024 diskutie
 ren wir deshalb einen praktischen Leitfaden\, der Ihnen einen strukturiert
 en Ansatz vermittelt. Erfahren Sie mehr über die  \n\n 	Planung und Durc
 hführung von Sicherheitsbewertungen\,  \n 	die Identifizierung von Schwa
 chstellen und  \n 	die Implementierung moderner Sicherheitslösungen. \n\
 nGestützt durch künstliche Intelligenz (KI) und maschinelles Lernen\, wi
 rd der Leitfaden für Sicherheitsexpert*innen zu einer unverzichtbaren Hil
 fe\, um Bedrohungen schneller zu erkennen und effizient zu reagieren. Die 
 Integration von intuitiven Befehlen ermöglicht zudem eine effiziente Durc
 hsuchung und Interpretation komplexer Sicherheitsprotokolle und -daten\, w
 as zu einer verbesserten Reaktionsfähigkeit und Resilienz führt\n\nMelde
 n Sie sich jetzt kostenlos zur AI Show Folge 2 „Modernisieren Sie Ihre S
 icherheitsinfrastruktur – Mit KI auf dem neuesten Stand“ am 20. Septem
 ber 2024 an! Lassen Sie sich diese Stunde Kompaktwissen zu Künstlicher In
 telligenz nicht entgehen und machen Sie jeden zweiten Freitag von 11 bis 1
 2 Uhr zu Ihrer persönlichen #Smartinée!\n\nWerden Sie zum Fan und verpas
 sen Sie keine Folge unserer AI Show. Die Themen der nächsten Wochen find
 en Sie immer aktuell unter AI Show: Wir machen KI erlebbar.\n\nAuch wenn 
 Sie mit Ihrem neuen KI-Wissen glänzen möchten\, geben Sie Ihren Kolleg*i
 nnen doch auch eine Chance! Teilen Sie die Termine im Team. AI Show: Wir m
 achen KI erlebbar.
CATEGORIES:Meetup,Webcast
LOCATION:https://msevents.microsoft.com/event?id=23688884886
END:VEVENT
BEGIN:VTIMEZONE
TZID:Europe/Berlin
X-LIC-LOCATION:Europe/Berlin
BEGIN:DAYLIGHT
DTSTART:20240331T030000
TZOFFSETFROM:+0100
TZOFFSETTO:+0200
TZNAME:CEST
END:DAYLIGHT
END:VTIMEZONE
END:VCALENDAR