BEGIN:VCALENDAR
VERSION:2.0
PRODID:-//wp-events-plugin.com//7.2.3.1//EN
TZID:Europe/Berlin
X-WR-TIMEZONE:Europe/Berlin
BEGIN:VEVENT
UID:0-2403@sharepointsocial.de
DTSTART;TZID=Europe/Berlin:20240906T110000
DTEND;TZID=Europe/Berlin:20240906T120000
DTSTAMP:20240829T102445Z
URL:https://sharepointsocial.de/events/ai-show-folge-1-durchstarten-nach-d
 em-urlaub-mit-copilot-fuer-microsoft-365/
SUMMARY:AI Show Folge 1: Durchstarten nach dem Urlaub – Mit Copilot für 
 Microsoft 365
DESCRIPTION:Vorhang auf für die AI Show: Wir haben ein echtes Highlight f
 ür Sie nach der Urlaubszeit! Seien Sie ganz vorne mit dabei: Wir statten 
 Sie ab sofort alle zwei Wochen mit geballtem Wissen rund um Künstliche In
 telligenz aus!\n\nVerpassen Sie keine Folge unserer neuen Event-Reihe. Ein
 schalten und Wissen tanken: Die AI Show ab 6. September – jeden zweiten 
 Freitag von 11-12 Uhr. Mit spannenden Live-Demos\, App-Previews und Diskus
 sionen zu wechselnden KI-Themen. Online und kostenlos! Wir machen KI erleb
 bar.\n\nLos geht’s mit der Einstiegsfolge „Durchstarten nach dem Urlau
 b – Mit Copilot für Microsoft 365“ am 6. September 2024.\n\nSie lerne
 n unser neues Show-Format\, unser Studio und die Moderator*innen Anika Zen
 kel und Alexander Singer kennen\, die Sie bis Juli 2025 durch die Show fü
 hren werden.\n\nWir stellen Ihnen Copilot für Microsoft 365 vor\, unser i
 ntelligentes Assistenztool: So unterstützt Sie Copilot u. a. in Word\, Ou
 tlook\, PowerPoint und so formulieren Sie Prompts wirklich zielführend.\n
 \nMelden Sie sich jetzt kostenlos zur AI Show Folge 1 „Durchstarten nach
  dem Urlaub – Mit Copilot für Microsoft 365“ am 6. September 2024 an!
  Lassen Sie sich diese Stunde Kompaktwissen zu Künstlicher Intelligenz ni
 cht entgehen und machen Sie jeden zweiten Freitag von 11-12 Uhr zu Ihrer p
 ersönlichen #Smartinée!\n\nDiese Folge richtet sich an Einsteiger*innen 
 und Interessierte\, die die ersten Schritte mit Copilot für Microsoft 365
  unternehmen wollen.\n\nWerden Sie zum Fan und verpassen Sie keine Folge u
 nserer AI Show. Die Themen der nächsten Wochen finden Sie immer aktuell 
 unter AI Show: Wir machen KI erlebbar.\n\nAuch wenn Sie mit Ihrem neuen K
 I-Wissen glänzen möchten\, geben Sie Ihren Kolleg*innen doch auch eine C
 hance! Teilen Sie die Termine im Team. AI Show: Wir machen KI erlebbar.\n\
 nHinweis: Die AI Show ist eine rein digitale Veranstaltung\, doch die Plä
 tze sind begrenzt.
CATEGORIES:Webcast
LOCATION:https://msevents.microsoft.com/event?id=14264306382
END:VEVENT
BEGIN:VTIMEZONE
TZID:Europe/Berlin
X-LIC-LOCATION:Europe/Berlin
BEGIN:DAYLIGHT
DTSTART:20240331T030000
TZOFFSETFROM:+0100
TZOFFSETTO:+0200
TZNAME:CEST
END:DAYLIGHT
END:VTIMEZONE
END:VCALENDAR