BEGIN:VCALENDAR
VERSION:2.0
PRODID:-//wp-events-plugin.com//7.2.3.1//EN
TZID:Europe/Berlin
X-WR-TIMEZONE:Europe/Berlin
BEGIN:VEVENT
UID:0-1902@sharepointsocial.de
DTSTART;TZID=Europe/Berlin:20211025T123000
DTEND;TZID=Europe/Berlin:20211025T131500
DTSTAMP:20211019T173109Z
URL:https://sharepointsocial.de/events/ai-news-all-the-ai-trendy-%f0%9f%93
 %88-news-in-40-min/
SUMMARY:AI News - All the AI trendy ? news in 40 min
DESCRIPTION:We meet every Monday to discuss the latest AI related news. Tho
 se news are mostly related to recent evolution in the industry. We also di
 scuss recent technological and research breakthrough we don't have time to
  discuss during the rest of the week.\n\nIt is highly recommended to have 
 a quick look at the resources if you want to get most out of the discussio
 n. All the papers discussed during the week are in the following resources
 .\n\nResources:\nhttp://bit.ly/notion-page\n\nYou are new in the group? Jo
 in our discord:\nhttp://bit.ly/discord-invit
CATEGORIES:Meetup
LOCATION:https://www.meetup.com/de-DE/BerlinAI/events/pcvglsyccnbhc/
END:VEVENT
BEGIN:VTIMEZONE
TZID:Europe/Berlin
X-LIC-LOCATION:Europe/Berlin
BEGIN:DAYLIGHT
DTSTART:20210328T030000
TZOFFSETFROM:+0100
TZOFFSETTO:+0200
TZNAME:CEST
END:DAYLIGHT
END:VTIMEZONE
END:VCALENDAR