BEGIN:VCALENDAR
VERSION:2.0
PRODID:-//wp-events-plugin.com//7.2.3.1//EN
TZID:Europe/Berlin
X-WR-TIMEZONE:Europe/Berlin
BEGIN:VEVENT
UID:6-558@sharepointsocial.de
DTSTART;TZID=Europe/Berlin:20171019T090000
DTEND;TZID=Europe/Berlin:20171019T174500
DTSTAMP:20170914T114256Z
URL:https://sharepointsocial.de/events/9-sharepoint-bestpractice-tag-in-st
 uttgart/
SUMMARY:9. SharePoint Bestpractice Tag in Stuttgart
DESCRIPTION:Es erwartet Sie eine spannende Themenvielfalt rund um SharePoin
 t! Hören Sie praxisorientierte Vorträge und tauschen Sie sich mit Anwend
 ern aus unterschiedlichen Fachabteilungen zu Ihren Projektvorhaben aus. Di
 e Best-Practice-Tage zeichnen sich durch ein hohes Maß an Lösungsorienti
 erung aus.\n\n09:00 Uhr - Einlass\n09:15 Uhr - Begrüßung\, Oliver Lehner
 t Herausgeber Magazin wissensmanagement\n09:30 - 10:00 Uhr - Keynote Micro
 soft\n\n\n10:00 – 10:30 Uhr -c² contract in der cloud und on prem.Vertr
 agsmanagement in Office365 und SharePoint on premise.\n\n 	Mit unserem fra
 mework Lösungen konfigurieren statt programmieren\n 	Lösungen für Share
 Point on premise und Office 365\n 	Individuell auf Kundenanforderungen anp
 assbare Lösungen\n 	Änderungen im laufenden Betrieb umsetzbar\n 	Interak
 tion von unterschiedlichen Lösungen bei identischem „look &amp\; feel
 “\n\nErfahren Sie am Beispiel einer konkreten Kundenanforderung einer gr
 oßen international agierenden Bank wie loboSPhere contract nicht nur die 
 Anforderungen des Kunden umfänglich erfüllt sondern diese zukunftssicher
  auch heute schon im Office 365 Umfeld zur Verfügung stellt und somit heu
 te schon die Anforderungen von Morgen gewährleistet.\n\n\n\n10:30 – 11:
 00 Uhr - Digitalisierung und Automatisierung von Geschäftsprozessen\, unt
 erstüzt von virtuellen Assistenten.\nIn diesem Vortrag wird gezeigt\, wie
  virtuelle Assistenten auf innovative und intelligente Art und Weise die t
 ägliche Arbeit vereinfachen sowie die Produktivität und Effizienz der Mi
 tarbeiter verbessern.\n-    Intelligenter digitaler Arbeitsplatz\n-  
   Automatisierung sich wiederholender Arbeitsschritte\n-    Verbesseru
 ng der Produktivität und Effizienz\n-    Leichte Nutzbarkeit\n\n11:00 
 – 11:45 Uhr - Kaffeepause\, Networking\n \n11:45 – 12:15 Uhr - KanBo 
 – die neue Dimension der Effizienz für SharePoint basierend auf digital
 em Kanban\nViele analoge und digitale Arbeitshilfen versuchen uns in der B
 earbeitung unserer vielfältigen Aufgaben bestmöglich zu unterstützen\, 
 meist aber als Teilaspekt – unser Ansatz bei KanBo verbindet solche Ans
 ätze und zeigt Kontexte auf\, die Ordnung und Klarheit schaffen.\n\n 	Was
  ist KanBo und welches grundsätzliche Geschäftsproblem löst es?\n 	5 Mi
 nuten Live Demo\n 	Vorstellung einiger echter Kundenherausforderungen und 
 wie KanBo diese dort meistert\n 	So unterstützen wir unsere Kunden bei Ka
 nBo Einführungen\n\nDurch die voranschreitende Digitalisierung werden uns
 ere Aufgaben zumindest in der ersten Phase noch vielfältiger und komplexe
 r. Automatisierung und Künstliche Intelligenz könnten helfen das dauerha
 ft zu verbessern aber nur dann\, wenn sie Kontexte verstehen und Transpare
 nz vorfinden. Personal Kanban als Methode verbindet die Elemente aus Kanba
 n mit dem persönlichen Aufgabenmanagement\, KanBo setzt dies integriert i
 n SharePoint um. Im Vortrag stellen wir Problemstellungen unserer heutigen
  Kunden und die auf KanBo entwickelten Lösungsansätze vor.\n\n12:15 – 
 12:45 Uhr - BVG Intranet mit SharePoint - Über Nacht 20 Jahre jünger! Da
 s schafft nur das Intranet\n\nDie Entstehung eines neuen Intranets\, indiv
 iduell auf die Bedürfnisse des Kunden zugeschnitten.\n\n•    Migrati
 on des bestehenden Intranets\n•    Akzeptanzförderung für das Proje
 kt / Change Management als Erfolgsfaktor\n•    Personalisierung der I
 nformationen\n•    Optimierung von Layout und Struktur\n\nWindows Ser
 ver 2003\, 33 GB Daten\, 160.000 Dateien und 16.000 Ordner – so war der 
 Stand des Infonets der BVG vor Beginn des Pilotprojekts. nteam startete da
 s Projekt\, um das Infonet abzulösen und das Intranet einzuführen\, wobe
 i die Inhalte selektiv überarbeitet\, personalisiert sowie individuell au
 f die Bedürfnisse der BVG zugeschnitten wurden\, um den Workflow und das 
 komplexe Ablagesystem für die Mitarbeiter transparent zu machen und zu er
 leichtern.\n\n&nbsp\;\n12:45 – 13:15 Uhr - So entwickeln Sie eine Intran
 et Strategie für Ihr Unternehmen\n\n 	Welche Rollen werden für eine Digi
 tal Workplace Einführung benötigt?\n 	Digital Transformation: von der St
 rategieentwicklung zum Leitbild\n 	Die Business Value Analyse als Argument
 ationshilfe\n 	Employee Engagement: Wie wichtig ist die Akzeptanz der Mita
 rbeiter?\n\nFür die Einführung eines Digital Workplace ist eine  Strate
 gieentwicklung wichtig\, da diese ihr Wegweiser für die Zeit vor\, währe
 nd und nach der Projektumsetzung ist. Erfahren Sie in diesem Vortrag\, wie
  Führungskräfte von Social Collaboration überzeugt werden können welch
 e Projektschritte für ein Intranet Portal wichtig sind und wie Sie Mitarb
 eitende für die digitale Zusammenarbeit optimal vorbereitet und mitgenomm
 en.\n13:15 – 14:15 Uhr - Mittagessen\, Networking\n \n14:15– 14:45 Uh
 r - Praxisvortrag: Beezy - Der Digital Workplace mit dem SharePoint Social
  Layer\n\n 	Social Collaboration in SharePoint\n 	Das ist Beezy: Ein digit
 al Workplace mti hoher Mitarbeiterakzeptanz\n 	Warum Beezy nutzen?\n 	Wie 
 funktioniert Beezy\n 	Betrachtung eines Beezy-Projektes\n\nSharePoint biet
 et Out-of-the-box gute Möglichkeiten\, kollaborativ zusammenzuarbeiten. D
 ennoch deckt die Lösung nicht alle Bedürfnisse ab - genau dann kann Beez
 y mit seiner kompletten Suite an Social-Networking-Add-ons für SharePoint
  helfen. Entwickler kombinierten einige aus Twitter\, Facebook und Yammer 
 entliehene Kernfunktionen\, die in eine intuitiv bedienbare Fassade gepack
 t wurden. In diesem Vortrag erfahren Sie alles über die Funktionen und we
 rden Vor- und Nachteile kennenlernen.\n\n14:45 – 15:15 Uhr - n.n.\n15:15
  – 15:45 Uhr - Per Knopfdruck: Team- und Projektseiten einfach\, automat
 isiert &amp\; unabhängig von der IT-Abteilung erstellen\nMit automatisier
 ten Freigabeprozessen können Sie standardisierte Seiten für Projekte und
  Teams schnell\, einfach und ohne weitere Unterstützung der IT-Abteilung 
 erstellen lassen – mit einheitlichem Look &amp\; Feel\, integrierten Yam
 mer-Feeds und zugeschnitten auf Ihre Unternehmens- und Fachbereichsanforde
 rungen.\n\n 	Die neue Arbeitswelt: digitale Transformation und automatisie
 rte Prozesse\n 	Ein Praxisbeispiel: Freigabeprozesse für Team- und Projek
 tseiten\n 	Der Weg dorthin: Erfolgsfaktoren einer gelungenen Umsetzung\n\n
 Die Automatisierung von Prozessen ist in unserer digitalen Arbeitswelt nic
 ht mehr aufzuhalten – aus guten Gründen. Doch die digitale Transformati
 on ist kein Selbstläufer\, sondern birgt einige Tücken in sich. Wir zeig
 en Ihnen anhand eines Beispiels aus der Praxis\, wie Sie eine solche Umset
 zung erfolgreich gestalten können und stellen die technische Lösung vor:
  die automatisierte Freigabe und Erstellung von Team- und Projektseiten 
 – mit Fokus auf Benutzerfreundlichkeit\, Kollaboration und Effizienz.\n\
 n15:45  – 16:15 Uhr - Kaffeepause\, Networking\n16:15 – 16:45 Uhr - n
 .n.\n\n \n16:45 – 17:15 Uhr - Praxisvortrag\n\n \n17:15 Uhr Abschlussr
 unde\n \nHier geht es zur Anmeldung:  \n\n \n\nAnbieter von Beratung un
 d Software im Bereich SharePoint können leider nicht teilnehmen!\n
CATEGORIES:Konferenz
LOCATION:Stuttgart Marriott Hotel Sindelfingen\, Mahdentalstr. 68\, Sindelf
 ingen\, Deutschland
GEO:48.70668610000001;9.02157520000003
X-APPLE-STRUCTURED-LOCATION;VALUE=URI;X-ADDRESS=Mahdentalstr. 68\, Sindelfi
 ngen\, Deutschland;X-APPLE-RADIUS=100;X-TITLE=Stuttgart Marriott Hotel Sin
 delfingen:geo:48.70668610000001,9.02157520000003
END:VEVENT
BEGIN:VTIMEZONE
TZID:Europe/Berlin
X-LIC-LOCATION:Europe/Berlin
BEGIN:DAYLIGHT
DTSTART:20170326T030000
TZOFFSETFROM:+0100
TZOFFSETTO:+0200
TZNAME:CEST
END:DAYLIGHT
END:VTIMEZONE
END:VCALENDAR