BEGIN:VCALENDAR
VERSION:2.0
PRODID:-//wp-events-plugin.com//7.2.3.1//EN
TZID:Europe/Berlin
X-WR-TIMEZONE:Europe/Berlin
BEGIN:VEVENT
UID:6-95@sharepointsocial.de
DTSTART;TZID=Europe/Berlin:20160225T190000
DTEND;TZID=Europe/Berlin:20160225T213000
DTSTAMP:20160210T180504Z
URL:https://sharepointsocial.de/events/52-mercedes-benz-social-media-night
 -hamburg/
SUMMARY:52. Mercedes-Benz Social Media Night Hamburg
DESCRIPTION:Wir kooperieren dieses Jahr mit der Social Media Week Hamburg u
 nd veranstalten darum in diesem Rahmen am 25.02.20216 unsere 52. Mercedes
 -Benz Social Media Night in Hamburg. Als Location dient am 25.02.2016 der
  Mercedes me Store Hamburg. Da die #SMWHH generell eine kostenlose Verans
 taltung ist\, bieten wir die #MBSMN als kostenloses Event vor Ort und als 
 kostenlosen Live-Stream.\n\nDie Mercedes-Benz Social Media Night ist das f
 ührende Serien-Event zum Thema Social Media im Business-Kontext. Schwerpu
 nktmäßig finden die Veranstaltungen im Mercedes-Benz Museum in Stuttgart
  statt. Organisiert wird dies seit 2010 durch den Social Business Club und
  Social Media Club Stuttgart. Für unsere stetig wachsende Anhängerschaft
  außerhalb Stuttgarts bieten wir seit Anfang 2015 einen Live-Stream.\n\nW
 ir freuen uns mit der 52. Mercedes-Benz Social Media Night in Hamburg im M
 ercedes me Store zu Gast zu sein!\nProgramm der 52. MBSMN Hamburg\n1. Vort
 rag:\n„Social Media in der Mitgliederkommunikation bei der Technikerkran
 kenkasse“ mitBruno Kollhorst\n&gt\;&gt\; Teaser: Creative Effectiveness 
 – Das Geheimnis der besten Ideen der Welt für Social Media nutzen\n2. V
 ortrag:\n“Recht 2.0 – Urheberrecht und Influencer Marketing in Social 
 Media” von Dr. Carsten Ulbricht\n\nDurch den Abend führen Moderator Mar
 kus Besch und Hausherr Tobias Müller.\n\nEinlass in den Mercedes me Store
  für Veranstaltungsteilnehmer ist ab 18h\, Beginn der Veranstaltung ist u
 m 19h.\nDie Veranstaltung wird mit großen Twitterwalls begleitet\, der Ve
 ranstaltungs-Hashtag hierfür ist #MBSMN. Als weiterer Service steht Ihn
 en kostenfreies WLAN zur Verfügung.\nTickets für die 52. MBSMN\nTickets 
 gibt es kostenlos auf der Website der Social Media Week Hamburg:\n\nhttp:/
 /socialmediaweek.org/hamburg/events/52-mercedes-benz-social-media-night/\n
 \nWir freuen uns auf einen interessanten Abend mit Ihnen und Euch allen!\n
 \nEuer Orga-Team der Mercedes-Benz Social Media Night\n\nAblauf Live-Strea
 m\nDie SMWHH stellt zu dem Event einen Live-Stream zur Verfügung. Unter 
 dem Hashtag: #MBSMN von Beginn an mit-twittern.\nShare it! \n&gt\;&gt\; Me
 hr Aktuelles zur Mercedes-Benz Social Media Night findet ihr wie gehabt\, 
 noch unter dem alten Namen hier auf XING in der Gruppe des SMCSTR\, über 
 den Twitter @smcst\, Youtube\, auf Facebook sowie Google+. Auf unserer Web
 site www.smcst.de finden Sie alle weiteren Informationen über das größt
 e regelmäßige Social Business Event Deutschlands. Hinweis Bei dieser Ver
 anstaltung können Bilder- und Videoaufnahmen der Teilnehmer entstehen.\nM
 it dem Kauf des Tickets stimmen Sie zu\, dass diese Bilder im Nachgang der
  Veranstaltung in den Social Networks und dem MBSMN bzw. SMCSTR-Blog verö
 ffentlicht werden dürfen. Sollten Sie dies nicht wünschen\, hinterlassen
  Sie bitte beim Checkin Ihre Visitenkarte/Daten\, damit wir ggf. etwaige B
 ilder aussortieren können. Mit der Abgabe Ihrer Emailadresse setzen wir S
 ie auf unseren MBSMN-Email-Verteiler. Sie erhalten dann besondere Event-Hi
 nweise\, News der Mercedes-Benz Social Media Night und Gewinnspiele. Wir v
 erschicken kein Spam und geben niemals Daten an Dritte weiter. Falls Sie d
 ies nicht möchten\, klicken Sie bei dem ersten Newsletter auf Abmelden. V
 ielen Dank.
CATEGORIES:Partnerevent
LOCATION:Mercedes me Store Hamburg\, Ballindamm 17\, HJamburg\, 20095\, Deu
 tschland
GEO:53.5540321;9.998636000000033
X-APPLE-STRUCTURED-LOCATION;VALUE=URI;X-ADDRESS=Ballindamm 17\, HJamburg\, 
 20095\, Deutschland;X-APPLE-RADIUS=100;X-TITLE=Mercedes me Store Hamburg:g
 eo:53.5540321,9.998636000000033
END:VEVENT
BEGIN:VTIMEZONE
TZID:Europe/Berlin
X-LIC-LOCATION:Europe/Berlin
BEGIN:STANDARD
DTSTART:20151025T020000
TZOFFSETFROM:+0200
TZOFFSETTO:+0100
TZNAME:CET
END:STANDARD
END:VTIMEZONE
END:VCALENDAR