BEGIN:VCALENDAR
VERSION:2.0
PRODID:-//wp-events-plugin.com//7.2.3.1//EN
TZID:Europe/Berlin
X-WR-TIMEZONE:Europe/Berlin
BEGIN:VEVENT
UID:6-42@sharepointsocial.de
DTSTART;TZID=Europe/Berlin:20150528T100000
DTEND;TZID=Europe/Berlin:20150528T110000
DTSTAMP:20150520T091955Z
URL:https://sharepointsocial.de/events/5-dinge-die-sie-vor-einer-migration
 -zu-sharepoint-2013-onedrive-for-business-o365-wissen-muessen/
SUMMARY:5 Dinge\, die Sie vor einer Migration zu SharePoint 2013\, OneDrive
  for Business & O365 wissen müssen
DESCRIPTION:OneDrive for Business? SharePoint Online innerhalb Office 365 o
 der doch eine On-Premise Instanz?\nMicrosoft bietet nun bereits mehrere Op
 tionen zur Kollaboration an\, aber wie sehen die Optionen aus\, wenn es um
  die Migration des bestehenden Inhaltes und der Metadaten zu diesen Plattf
 ormen geht?\nVon der Planung der Migration und dem Aufräumen der aktuelle
 n Umgebung\, der Analyse der bestehenden SharePoint Sites\, beziehungsweis
 e des Inhaltes innerhalb File Shares\, bis hin zur Auswahl des Migrationst
 ools und dem Definieren der unterschiedlichen Methoden einer Migration um 
 den Inhalt auf die neue Plattform zu bewegen. Losgelöst davon\, ob Sie vo
 n File Shares\, Cloud-basierende Enterprise File Sync &amp\; Share Plattfo
 rmen\, SharePoint 2010\, 2007 oder sogar von SharePoint 2003 kommen.\nIn d
 iesem Webinar berichtet Gary Hughes (Metalogix) im Gespräch mit Michael 
 Greth (SharePointCommunity) über die Erfahrungen und über die von mehr a
 ls einem Jahrzehnt gesammelte Expertise von Metalogix rund um Migrationen 
 zu Microsoft Content-Plattformen.\n[important]Jetzt für das Webinar hier
  anmelden![/important]
CATEGORIES:Webcast
END:VEVENT
BEGIN:VTIMEZONE
TZID:Europe/Berlin
X-LIC-LOCATION:Europe/Berlin
BEGIN:DAYLIGHT
DTSTART:20150329T030000
TZOFFSETFROM:+0100
TZOFFSETTO:+0200
TZNAME:CEST
END:DAYLIGHT
END:VTIMEZONE
END:VCALENDAR