BEGIN:VCALENDAR
VERSION:2.0
PRODID:-//wp-events-plugin.com//7.2.3.1//EN
TZID:Europe/Berlin
X-WR-TIMEZONE:Europe/Berlin
BEGIN:VEVENT
UID:6-545@sharepointsocial.de
DTSTART;TZID=Europe/Berlin:20171011T183000
DTEND;TZID=Europe/Berlin:20171011T213000
DTSTAMP:20170902T141449Z
URL:https://sharepointsocial.de/events/48-treffen-der-sharepoint-usergroup
 -stuttgart/
SUMMARY:48 Treffen der SharePoint Usergroup Stuttgart
DESCRIPTION:Hallo\,\n\nhier nun endlich wieder ein Lebenszeichen der ShareP
 oint Usergroup Stuttgart:\n\nWir laden ein zum 48. Treffen der SPUG Stuttg
 art\n-------------------------------------------------\n\nAnmeldung über 
 XING\n\n--------------------------------------------------\n\nWir treffen 
 uns am Mittwoch den 11. Oktober ab 18:30\nbei der Alegri Niederlassung in 
 Stuttgart:\n\nAlegri International Service GmbH\n2. Stock\nMeitnerstraße 
 10\nD-70563 Stuttgart\n\n1.) Microsoft SharePoint MVP Max Melcher (Alegr
 i) wird\nuns eine Nachbereitung zur im September stattfindenden\nMicrosoft
  Ignite Conference 2017 in Orlando geben.\n\nhttps://www.xing.com/profi
 le/Maximilian_Melcher\n\n2.) Robert Schöbel (HB Munich GmbH)\nwird uns 
 die neuen - inzwischen auf Office 365 verfügbaren -\nCommunication Sites
  vorstellen.\nUnd er wird uns dabei auch eine Gegenüberstellung zu den\n
 Microsoft Modern TeamSites geben.\n\nhttps://www.xing.com/profile/Robert_S
 choebel2\n\nWir freuen uns auf rege Beteiligung :-)\n\nAnmeldung über XIN
 G\n\nBitte gern auch weitersagen!\n\nThomas Tuttenuj
CATEGORIES:UserGroup
LOCATION:Devoteam Alegri GmbH\, Meitnerstraße 10\, Stuttgart \, 70563\, De
 utschland
GEO:48.7382563;9.109773000000018
X-APPLE-STRUCTURED-LOCATION;VALUE=URI;X-ADDRESS=Meitnerstraße 10\, Stuttga
 rt \, 70563\, Deutschland;X-APPLE-RADIUS=100;X-TITLE=Devoteam Alegri GmbH:
 geo:48.7382563,9.109773000000018
END:VEVENT
BEGIN:VTIMEZONE
TZID:Europe/Berlin
X-LIC-LOCATION:Europe/Berlin
BEGIN:DAYLIGHT
DTSTART:20170326T030000
TZOFFSETFROM:+0100
TZOFFSETTO:+0200
TZNAME:CEST
END:DAYLIGHT
END:VTIMEZONE
END:VCALENDAR