BEGIN:VCALENDAR
VERSION:2.0
PRODID:-//wp-events-plugin.com//7.2.3.1//EN
TZID:Europe/Berlin
X-WR-TIMEZONE:Europe/Berlin
BEGIN:VEVENT
UID:0-1722@sharepointsocial.de
DTSTART;TZID=Europe/Berlin:20210304T081500
DTEND;TZID=Europe/Berlin:20210304T090000
DTSTAMP:20210208T182951Z
URL:https://sharepointsocial.de/events/288-applikationen-ohne-ein-handbuch
 -wie-geht-das/
SUMMARY:288 Applikationen ohne ein Handbuch - wie geht das?
DESCRIPTION:Event von Gravity Global AG\n\nWie gelingt der Roll-out in Zei
 ten von SaaS und agiler Entwicklung?\n\nEine klassische Antwort auf verzwe
 ifelte Software-Nutzer Anfragen heisst: lesen Sie doch das Handbuch! Diese
 r womöglich einmal berechtigte Aufruf zur Selbstermächtigung lässt trad
 itionelle Software-Entwicklungszeiten anklingen. Die Anzahl Applikation wa
 r überschaubar. Änderungen derselben selten. Da konnte ein Handbuch tats
 ächlich helfen.\n\nDoch wie unterstützen wir den Nutzer / die Nutzerin j
 etzt\, da wöchentlich eine neue SaaS Applikation auftaucht und Dank agile
 r Software-Entwicklung Neuerungen im 2-Wochen-Rhythmus erfolgen?\n\nUnser 
 Panel mit Praktikern und Praktikerinnen diskutiert neue Wege zum erfolgrei
 chen Onboarding von Software-NutzerInnen in einer agilen Welt.\n\nDetails 
 zu den Panellisten werden noch bekanntgegeben.\n\nWir freuen uns auf Deine
  Teilnahme.
CATEGORIES:Meetup
LOCATION:https://www.meetup.com/de-DE/Gravity-Global-Expert-Panel-learning/
 events/276102048/
END:VEVENT
BEGIN:VTIMEZONE
TZID:Europe/Berlin
X-LIC-LOCATION:Europe/Berlin
BEGIN:STANDARD
DTSTART:20201025T020000
TZOFFSETFROM:+0200
TZOFFSETTO:+0100
TZNAME:CET
END:STANDARD
END:VTIMEZONE
END:VCALENDAR