BEGIN:VCALENDAR
VERSION:2.0
PRODID:-//wp-events-plugin.com//7.2.3.1//EN
TZID:Europe/Berlin
X-WR-TIMEZONE:Europe/Berlin
BEGIN:VEVENT
UID:6-562@sharepointsocial.de
DTSTART;TZID=Europe/Berlin:20171010T173000
DTEND;TZID=Europe/Berlin:20171010T193000
DTSTAMP:20170921T084425Z
URL:https://sharepointsocial.de/events/22-treffen-der-sharepoint-usergroup
 -rhein-neckar/
SUMMARY:22. Treffen der SharePoint Usergroup Rhein-Neckar
DESCRIPTION:Beim 22. Treffen der SharePoint User Group Rhein-Neckar am 10.
  Oktober 2017 steht das Thema Office 365 im Mittelpunkt. Bei den Vortr
 ägen haben wir auch dieses Mal wieder eine Mischung aus technischen Aspek
 ten und fachlich/konzeptionellen Themen aus der Unternehmens-Praxis gewäh
 lt. Es sollte also für die Allermeisten von euch etwas Spannendes dabei s
 ein.\n\nIm Namen des Moderatoren-Teams lade ich euch alle herzlich zu dies
 em Event ein. Auch interessierte Gäste\, die ihr mitbringen möchtet\, si
 nd selbstverständlich herzlich willkommen. Wir freuen uns auf das Wieders
 ehen mit euch und auf interessante Gespräche!\n\nAnmeldung über XING\n\n
 Mit freundlichen Grüßen\nRené Fritsch\n\n&nbsp\;\nProgramm\nVortrag 1)
  "Wie schütze ich meine Daten in Office 365? - Eine Orientierung im Abk
 ürzungs-Dschungel aus MDM\, MAM\, MFA und IRM" \nUnter dieser Überschri
 ft stellt uns Markus Ihloff (bridgingIT GmbH) eine breite Palette an Sch
 utzmechanismen vor\, mit denen Microsoft seiner Cloud-Plattform Office 365
  inzwischen ausgestattet hat. Dabei entsteht ein beeindruckendes Gesamtbil
 d\, das viele bisher Cloud-skeptische IT-Entscheider zum Umdenken bringen 
 könnte\, wenn es um das Speichern und Verarbeiten sensibler Daten ihres U
 nternehmens geht.\n\nVortrag 2) O365 für Collaboration und Interne Kommu
 nikation - Projektbeispiel "iCom"\nFrisch aus der eigenen unternehmensinte
 rnen "Werkstatt" berichten anschließend Natalia Altergot und René Fri
 tsch (beide bridgingIT GmbH). Gegenstand ist das Projekt "iCom"\, mit de
 m das IT-Beratungshaus aktuell dabei ist neue Standards und Tools für sei
 ne Mitarbeiter einführt. Zu den Kernfragen\, die hierbei beantwortet werd
 en mussten\, zählen: "Wie versorgt man in einem inzwischen 550 Mitarbeite
 r zählenden Unternehmen alle Kollegen mit den jeweils für sie relevanten
  Neuigkeiten? Welche Office 365-Dienste helfen unseren Kollegen am meisten
  in der täglichen Arbeit? Braucht es Wahlfreiheit oder klare Vorgaben hin
 sichtlich der eingesetzten Tools? Wie verhalten sich Skype for Business\, 
 SharePoint Online\, O365 Groups\,  Microsoft Teams\, Yammer\, Planner usw
 . zueinander?!" Wer im eigenen Unternehmen vor diese oder ähnlichen Herau
 sforderungen steht\, wird sicher interessante Einblicke mitnehmen können!
 \n\nVortrag 3) Braucht es eigene Backups für Daten in O365?\nZu diesem T
 hema wird uns Stefan Kießig (novaCapta Software &amp\; Consulting GmbH)
  eine Einführung geben und im Anschluss daran die Diskussion unter den T
 eilnehmern des Abends moderieren. Es interessiert uns hierbei\, wie ihr in
  euren Unternehmen/Organisationen das Thema Datensicherung in Bezug auf Cl
 oud-Dienste wie Office 365 handhabt. Welche Strategie wird bei euch verfol
 gt? Gibt es konkrete Erfahrungen\, von denen die anderen Teilnehmer profit
 ieren können? Wir freuen uns auf eure Einschätzungen und auf einen lebha
 ften Austausch!
CATEGORIES:UserGroup
LOCATION:BridgingIT GmbH\, N7\, 5-6\, Mannheim\, 68101\, Deutschland
GEO:49.4842263;8.471626799999967
X-APPLE-STRUCTURED-LOCATION;VALUE=URI;X-ADDRESS=N7\, 5-6\, Mannheim\, 68101
 \, Deutschland;X-APPLE-RADIUS=100;X-TITLE=BridgingIT GmbH:geo:49.4842263,8
 .471626799999967
END:VEVENT
BEGIN:VTIMEZONE
TZID:Europe/Berlin
X-LIC-LOCATION:Europe/Berlin
BEGIN:DAYLIGHT
DTSTART:20170326T030000
TZOFFSETFROM:+0100
TZOFFSETTO:+0200
TZNAME:CEST
END:DAYLIGHT
END:VTIMEZONE
END:VCALENDAR