BEGIN:VCALENDAR
VERSION:2.0
PRODID:-//wp-events-plugin.com//7.2.3.1//EN
TZID:Europe/Berlin
X-WR-TIMEZONE:Europe/Berlin
BEGIN:VEVENT
UID:6-551@sharepointsocial.de
DTSTART;TZID=Europe/Berlin:20170913T173000
DTEND;TZID=Europe/Berlin:20170913T210000
DTSTAMP:20170908T130043Z
URL:https://sharepointsocial.de/events/19-treffen-spug-frankfurt-teams-gro
 ups-sp-yammer/
SUMMARY:19. Treffen SPUG Frankfurt - Teams\, Groups\, SP\, Yammer
DESCRIPTION:Guten Tag SPUG Frankfurt\,\n\nda die Sommerferien jetzt überst
 anden sind\, möchten wir endlich zum nächsten SharePoint Usergroup-Treff
 en einladen…\n\nTermin: Mittwoch 13. September 2017 ab 17:30\n\nAls Hau
 ptthema möchten wir an dem letzten Vortrag von Nicki Borell anschließen.
  Er hatte uns zahlreichen Möglichkeiten für eine moderne Zusammenarbeit 
 aufgezeigt. Dieses Mal wollen wir etwas praktischer und detaillierter eini
 ge solcher Tools anschauen – Microsoft Teams\, Groups\, SharePoint und Y
 ammer: wann nutzt man was\, und warum?\n\nAus der Vorstellung heraus werde
 n sich sicherlich zahlreiche Diskussionen ergeben.\n\nAnmeldung wie immer 
 über die XING-Gruppe\n\nLeider haben wir auch noch eine schlechte Nachric
 ht:\n\nViele kennen Erik Wucher\, einer der Moderatoren dieser Gruppe. Er 
 hatte einen schweren Unfall und kam daher vor einigen Wochen ins Krankenha
 us und fällt bis auf weiteres aus. Für weitere Themenvorschläge oder Ko
 ntakt stehe ich nun ab sofort neben dem bekannten Moderatoren-Team per Xin
 g oder Email an steven.greenhill@bridging-it.de zur Verfügung.\n\nVielen 
 Dank für das Verständnis und im Namen der SPUG wünschen wir ihm gute Be
 sserung.\n\nSchöne Grüße aus Frankfurt\,\n\nSteven Greenhill
CATEGORIES:UserGroup
LOCATION:BridgingIT GmbH\, Solmsstr. 4\, Frankfurt am Main\, 60486 \, Deuts
 chland
GEO:50.11897;8.63742000000002
X-APPLE-STRUCTURED-LOCATION;VALUE=URI;X-ADDRESS=Solmsstr. 4\, Frankfurt am 
 Main\, 60486 \, Deutschland;X-APPLE-RADIUS=100;X-TITLE=BridgingIT GmbH:geo
 :50.11897,8.63742000000002
END:VEVENT
BEGIN:VTIMEZONE
TZID:Europe/Berlin
X-LIC-LOCATION:Europe/Berlin
BEGIN:DAYLIGHT
DTSTART:20170326T030000
TZOFFSETFROM:+0100
TZOFFSETTO:+0200
TZNAME:CEST
END:DAYLIGHT
END:VTIMEZONE
END:VCALENDAR