BEGIN:VCALENDAR
VERSION:2.0
PRODID:-//wp-events-plugin.com//7.2.3.1//EN
TZID:Europe/Berlin
X-WR-TIMEZONE:Europe/Berlin
BEGIN:VEVENT
UID:0-2378@sharepointsocial.de
DTSTART;TZID=Europe/Berlin:20240627T173000
DTEND;TZID=Europe/Berlin:20240627T190000
DTSTAMP:20240527T112504Z
URL:https://sharepointsocial.de/events/16-microoft365-stammtisch/
SUMMARY:16. Microoft365-Stammtisch
DESCRIPTION:Event von Corporate Learning Community gUG\n\nFür unseren nä
 chsten und erstmal letzten Stammtisch vor der Sommerpause am 27.06. um 17:
 30 Uhr werden Simon und ich weitere Funktionen getestet haben und unser Fe
 edback teilen. Gerne auch selber testen (wer einen Copilot-Zugang hat) und
  Erfahrungen mitbringen.\n\nmicrosoft365stammtisch - lernglust - learning 
 by passion\n\nAnmeldung auf LinkedIn (1) 16. Microoft365-Stammtisch | Link
 edIn\n\n&nbsp\;
CATEGORIES:Meetup
LOCATION:https://www.linkedin.com/events/16-microoft365-stammtisch720076194
 4717291521/about/
END:VEVENT
BEGIN:VTIMEZONE
TZID:Europe/Berlin
X-LIC-LOCATION:Europe/Berlin
BEGIN:DAYLIGHT
DTSTART:20240331T030000
TZOFFSETFROM:+0100
TZOFFSETTO:+0200
TZNAME:CEST
END:DAYLIGHT
END:VTIMEZONE
END:VCALENDAR