BEGIN:VCALENDAR
VERSION:2.0
PRODID:-//wp-events-plugin.com//7.2.3.1//EN
TZID:Europe/Berlin
X-WR-TIMEZONE:Europe/Berlin
BEGIN:VEVENT
UID:6-67@sharepointsocial.de
DTSTART;TZID=Europe/Berlin:20160202T173000
DTEND;TZID=Europe/Berlin:20160202T210000
DTSTAMP:20160126T133832Z
URL:https://sharepointsocial.de/events/14-treffen-spug-frankfurt-sharepoin
 t-2016-was-ist-neu/
SUMMARY:SharePoint User Group Frankfurt Main Februar 2016
DESCRIPTION:Am 14. SPUG Treffen in Frankfurt haben wir Steven Greenhill zu 
 Gast - mit dem Vortrag\n\nSharePoint 2016: Alter Wein in neuen Schläuchen
  - was ist neu für Endanwender?\n\nDie ersten Präsentationen von Microso
 ft zu SharePoint 2016 zeigen im Schwerpunkt überwiegend neue Funktionen f
 ür IT-Pros und Administratoren.\n\nAber was ist mit dem Endanwender?\n\n	
 Welche neuen Features gibt es für den Endanwender?\n	Wie hat sich das Lay
 out geändert und warum?\n	Welche Auswirkungen hat das neue Layout auf Use
 r Experience und User Acceptance – oder kurz: wie findet man sich zurech
 t?\n	Wie muss ich mich als Endanwender umstellen\, wenn man früheren Vers
 ionen von SharePoint gewohnt ist?\n	Die Codebasis von SharePoint On-Premis
 e und SharePoint-Online wurde angeglichen: trotzdem gibt es Unterschiede 
 – welche sind das?\n\nDer Fokus des Vortrags liegt auf der SharePoint On
 -Premise Installationen\, wie sie in vielen Unternehmen weiter üblich sei
 n wird.\n\nWie immer ist für das leibliche Wohl gesorgt.\n\nAnmeldung üb
 er XING
CATEGORIES:UserGroup
LOCATION:BridgingIT GmbH\, Solmsstr. 4\, Frankfurt am Main\, 60486 \, Deuts
 chland
GEO:50.11897;8.63742000000002
X-APPLE-STRUCTURED-LOCATION;VALUE=URI;X-ADDRESS=Solmsstr. 4\, Frankfurt am 
 Main\, 60486 \, Deutschland;X-APPLE-RADIUS=100;X-TITLE=BridgingIT GmbH:geo
 :50.11897,8.63742000000002
END:VEVENT
BEGIN:VTIMEZONE
TZID:Europe/Berlin
X-LIC-LOCATION:Europe/Berlin
BEGIN:STANDARD
DTSTART:20151025T020000
TZOFFSETFROM:+0200
TZOFFSETTO:+0100
TZNAME:CET
END:STANDARD
END:VTIMEZONE
END:VCALENDAR