BEGIN:VCALENDAR
VERSION:2.0
PRODID:-//wp-events-plugin.com//7.2.3.1//EN
TZID:Europe/Berlin
X-WR-TIMEZONE:Europe/Berlin
BEGIN:VEVENT
UID:0-2411@sharepointsocial.de
DTSTART;TZID=Europe/Berlin:20240831T190000
DTEND;TZID=Europe/Berlin:20240831T220000
DTSTAMP:20240829T104122Z
URL:https://sharepointsocial.de/events/10-years-hamburg-sharepint-party-at
 -hamburg-collabdays-2024/
SUMMARY:10 Years Hamburg SharePint - Party at Hamburg CollabDays 2024
DESCRIPTION:Save the date! We celebrate 10 years SharePint Hamburg Communit
 y at Hamburg CollabDays. More details soon!
CATEGORIES:Meetup
LOCATION:https://www.meetup.com/SharePint-HH/events/297802057/
END:VEVENT
BEGIN:VTIMEZONE
TZID:Europe/Berlin
X-LIC-LOCATION:Europe/Berlin
BEGIN:DAYLIGHT
DTSTART:20240331T030000
TZOFFSETFROM:+0100
TZOFFSETTO:+0200
TZNAME:CEST
END:DAYLIGHT
END:VTIMEZONE
END:VCALENDAR