BEGIN:VCALENDAR
VERSION:2.0
PRODID:-//wp-events-plugin.com//7.2.3.1//EN
TZID:Europe/Berlin
X-WR-TIMEZONE:Europe/Berlin
BEGIN:VEVENT
UID:0-2464@sharepointsocial.de
DTSTART;TZID=Europe/Berlin:20250522T180000
DTEND;TZID=Europe/Berlin:20250522T210000
DTSTAMP:20250405T075341Z
URL:https://sharepointsocial.de/events/1-microsoft-fabric-meetup-rhein-ruh
 r/
SUMMARY:1. Microsoft Fabric Meetup Rhein-Ruhr
DESCRIPTION:\n\n\nDas 1. Microsoft Fabric Meetup wird am 22. Mai um 18 Uhr 
 bei ORAYLIS GmbH in Meerbusch stattfinden.\nAnmeldung über Meetup\nDie Ag
 enda wird in Kürze bekannt gegeben.\nDieses Meetup ist der Treffpunkt fü
 r alle\, die die Welt von Microsoft Fabric erkunden möchten - sei es als 
 Technikbegeisterte\, IT-Experten\, Fach- oder Businessanwender. Wenn du di
 ch für Themen wie Datenintegration\, -aufbereitung\, -modellierung\, -ana
 lyse\, Data Science\, AI\, Reporting sowie die neuesten Entwicklungen im M
 icrosoft Fabric-Ökosystem interessierst\, bist du hier genau richtig! 
 🚀\nDie Entwicklungen und Möglichkeiten rund um Microsoft Fabric sind h
 ochdynamisch und verändern sich rasant. Genau hier setzt unser Meetup an:
  Wir schaffen einen Raum\, in dem du dich mit Gleichgesinnten vernetzen\, 
 Praxiserfahrungen teilen und neue Erkenntnisse für die effektive Nutzung 
 von Microsoft Fabric gewinnen kannst.\nDAS ERWARTET DICH\n🗨️Inspiring
  Talks: Spannende Vorträge\, die technische Einblicke bieten und gleichze
 itig praxisorientierte Perspektiven für Business-Anwender eröffnen.\n
 🙏Community Networking: Tausche dich mit anderen Begeisterten aus\, erwe
 itere dein Netzwerk und diskutiere aktuelle Trends und Herausforderungen.\
 n😅Quiz &amp\; Fun: Teste dein Wissen\, gewinne den Titel „Fabric Comm
 unity Champion“ und habe Spaß dabei!\n🧃Food&amp\;Drinks: Wir sorgen 
 auch für dein leibliches Wohl! Food &amp\; Drinks stehen für dich bereit
 \, damit du den Abend in entspannter Atmosphäre genießen kannst.\n🎤CA
 LL FOR SPEAKERS\nDu hast Lust\, dein Wissen mit der Microsoft Fabric Commu
 nity zu teilen? Dann ab auf die Bühne! Wir freuen uns über inspirierende
  Speaker\, die unsere Fabric MeetUp Rhein Ruhr Community mit spannenden 30
 -60-minütigen Sessions bereichern. Egal ob Fachvortrag\, Hands-on-Session
  oder ein brandneues Thema – wir sind offen für deine Ideen und Themenv
 orschläge.\nDieses MeetUp wird gesponsert von ORAYLIS GmbH\n👩‍💻We
 b: https://www.oraylis.de/\n👩‍💻LinkedIn: https://www.linkedin.com/
 company/oraylis-gmbh/\nImpressum: https://www.oraylis.de/impressum\n\n\n\n
 \n\n\n\n\n
CATEGORIES:Meetup
LOCATION:Oraylis\, Werkstrasse 10\, Meerbusch\, Deutschland
X-APPLE-STRUCTURED-LOCATION;VALUE=URI;X-ADDRESS=Werkstrasse 10\, Meerbusch\
 , Deutschland;X-APPLE-RADIUS=100;X-TITLE=Oraylis:geo:0,0
END:VEVENT
BEGIN:VTIMEZONE
TZID:Europe/Berlin
X-LIC-LOCATION:Europe/Berlin
BEGIN:DAYLIGHT
DTSTART:20250330T030000
TZOFFSETFROM:+0100
TZOFFSETTO:+0200
TZNAME:CEST
END:DAYLIGHT
END:VTIMEZONE
END:VCALENDAR