BEGIN:VCALENDAR
VERSION:2.0
PRODID:-//wp-events-plugin.com//7.2.3.1//EN
TZID:Europe/Berlin
X-WR-TIMEZONE:Europe/Berlin
BEGIN:VEVENT
UID:0-1850@sharepointsocial.de
DTSTART;TZID=Europe/Berlin:20210924T100000
DTEND;TZID=Europe/Berlin:20210924T120000
DTSTAMP:20210824T102205Z
URL:https://sharepointsocial.de/events/1-knowledgeworker-meetup/
SUMMARY:1. Knowledgeworker Meetup
DESCRIPTION:\n\n\nGemeinsam voneinander profitieren\n\n\n\n\n\n\nTrends –
  Tipps – Erfahrungen\n\n\n\n\n\n\n\n\nDie Welt des E-Learnings veränder
 t und modernisiert sich rasant. Gerade im letzten Jahr standen viele Unter
 nehmen vor großen\, neuen Herausforderungen: Angeordnetes Home Office\, e
 ingeschränkte Reisefähigkeit und Verbote von Präsenzschulungen machten 
 es notwendig\, interne Prozesse neu zu denken und auch Weiterbildungen ode
 r Onboardingprozesse auf ein neues Level zu heben. Bestehende technische M
 öglichkeiten wie z. B. Videokonferenztools erfuhren eine neue\, vor allem
  breitere Akzeptanz und wurden zur Gewohnheit. Soziale Interaktionen haben
  sich verändert. Unternehmen sind nun gefordert\, diese Veränderung mitz
 ugehen und hybrid zu denken. Dazu gehört es\, Digitalisierung zu perfekti
 onieren und im Bereich HR effizient hochqualitative E-Trainings zu erstell
 en.\n\nBei den Knowledgeworker Meetups tauschen Sie sich zu Tipps mit ande
 ren erfahrenen Anwendern und Experten aus!\n\n
CATEGORIES:Meetup
LOCATION:https://www.knowledgeworker.com/meetup/
END:VEVENT
BEGIN:VTIMEZONE
TZID:Europe/Berlin
X-LIC-LOCATION:Europe/Berlin
BEGIN:DAYLIGHT
DTSTART:20210328T030000
TZOFFSETFROM:+0100
TZOFFSETTO:+0200
TZNAME:CEST
END:DAYLIGHT
END:VTIMEZONE
END:VCALENDAR